BEGIN:VCALENDAR
VERSION:2.0
PRODID:-//Forest Park Country Club | &quot;The Park&quot; - ECPv6.15.20//NONSGML v1.0//EN
CALSCALE:GREGORIAN
METHOD:PUBLISH
X-ORIGINAL-URL:https://forestparkcc.org
X-WR-CALDESC:Events for Forest Park Country Club | &quot;The Park&quot;
REFRESH-INTERVAL;VALUE=DURATION:PT1H
X-Robots-Tag:noindex
X-PUBLISHED-TTL:PT1H
BEGIN:VTIMEZONE
TZID:America/New_York
BEGIN:DAYLIGHT
TZOFFSETFROM:-0500
TZOFFSETTO:-0400
TZNAME:EDT
DTSTART:20270314T070000
END:DAYLIGHT
BEGIN:STANDARD
TZOFFSETFROM:-0400
TZOFFSETTO:-0500
TZNAME:EST
DTSTART:20271107T060000
END:STANDARD
BEGIN:DAYLIGHT
TZOFFSETFROM:-0500
TZOFFSETTO:-0400
TZNAME:EDT
DTSTART:20280312T070000
END:DAYLIGHT
BEGIN:STANDARD
TZOFFSETFROM:-0400
TZOFFSETTO:-0500
TZNAME:EST
DTSTART:20281105T060000
END:STANDARD
BEGIN:DAYLIGHT
TZOFFSETFROM:-0500
TZOFFSETTO:-0400
TZNAME:EDT
DTSTART:20290311T070000
END:DAYLIGHT
BEGIN:STANDARD
TZOFFSETFROM:-0400
TZOFFSETTO:-0500
TZNAME:EST
DTSTART:20291104T060000
END:STANDARD
END:VTIMEZONE
BEGIN:VEVENT
DTSTART;TZID=America/New_York:20280604T130000
DTEND;TZID=America/New_York:20280604T140000
DTSTAMP:20260422T113400
CREATED:20260419T004624Z
LAST-MODIFIED:20260419T004624Z
UID:10000377-1843736400-1843740000@forestparkcc.org
SUMMARY:YOGA with Melissa Sundays 1-2 PM
DESCRIPTION:In the Ballroom upstairs.
URL:https://forestparkcc.org/event/yoga-with-melissa-sundays-1-2-pm/2028-06-04/
LOCATION:Forest Park Country Club\, 1821 Mulberry Road\, Martinsville\, VA\, 24112\, United States
END:VEVENT
BEGIN:VEVENT
DTSTART;TZID=America/New_York:20280607T180000
DTEND;TZID=America/New_York:20280607T200000
DTSTAMP:20260422T113400
CREATED:20260419T003637Z
LAST-MODIFIED:20260419T003637Z
UID:10000099-1844013600-1844020800@forestparkcc.org
SUMMARY:FPCC Book Exchange First Wednesday of Month
DESCRIPTION:In the Grill Room.
URL:https://forestparkcc.org/event/fpcc-book-exchange-first-wednesday-of-month/2028-06-07/
LOCATION:Forest Park Country Club\, 1821 Mulberry Road\, Martinsville\, VA\, 24112\, United States
END:VEVENT
BEGIN:VEVENT
DTSTART;TZID=America/New_York:20280611T130000
DTEND;TZID=America/New_York:20280611T140000
DTSTAMP:20260422T113400
CREATED:20260419T004624Z
LAST-MODIFIED:20260419T004624Z
UID:10000378-1844341200-1844344800@forestparkcc.org
SUMMARY:YOGA with Melissa Sundays 1-2 PM
DESCRIPTION:In the Ballroom upstairs.
URL:https://forestparkcc.org/event/yoga-with-melissa-sundays-1-2-pm/2028-06-11/
LOCATION:Forest Park Country Club\, 1821 Mulberry Road\, Martinsville\, VA\, 24112\, United States
END:VEVENT
BEGIN:VEVENT
DTSTART;TZID=America/New_York:20280615T190000
DTEND;TZID=America/New_York:20280615T210000
DTSTAMP:20260422T113400
CREATED:20260419T004009Z
LAST-MODIFIED:20260419T004009Z
UID:10000190-1844708400-1844715600@forestparkcc.org
SUMMARY:FPCC Trivia Night 7- 9 PM
DESCRIPTION:
URL:https://forestparkcc.org/event/fpcc-trivia-night-7-9-pm/2028-06-15/
LOCATION:Forest Park Country Club\, 1821 Mulberry Road\, Martinsville\, VA\, 24112\, United States
END:VEVENT
BEGIN:VEVENT
DTSTART;TZID=America/New_York:20280618T130000
DTEND;TZID=America/New_York:20280618T140000
DTSTAMP:20260422T113400
CREATED:20260419T004624Z
LAST-MODIFIED:20260419T004624Z
UID:10000379-1844946000-1844949600@forestparkcc.org
SUMMARY:YOGA with Melissa Sundays 1-2 PM
DESCRIPTION:In the Ballroom upstairs.
URL:https://forestparkcc.org/event/yoga-with-melissa-sundays-1-2-pm/2028-06-18/
LOCATION:Forest Park Country Club\, 1821 Mulberry Road\, Martinsville\, VA\, 24112\, United States
END:VEVENT
BEGIN:VEVENT
DTSTART;TZID=America/New_York:20280625T130000
DTEND;TZID=America/New_York:20280625T140000
DTSTAMP:20260422T113400
CREATED:20260419T004624Z
LAST-MODIFIED:20260419T004624Z
UID:10000380-1845550800-1845554400@forestparkcc.org
SUMMARY:YOGA with Melissa Sundays 1-2 PM
DESCRIPTION:In the Ballroom upstairs.
URL:https://forestparkcc.org/event/yoga-with-melissa-sundays-1-2-pm/2028-06-25/
LOCATION:Forest Park Country Club\, 1821 Mulberry Road\, Martinsville\, VA\, 24112\, United States
END:VEVENT
BEGIN:VEVENT
DTSTART;TZID=America/New_York:20280629T190000
DTEND;TZID=America/New_York:20280629T210000
DTSTAMP:20260422T113400
CREATED:20260419T004009Z
LAST-MODIFIED:20260419T004009Z
UID:10000191-1845918000-1845925200@forestparkcc.org
SUMMARY:FPCC Trivia Night 7- 9 PM
DESCRIPTION:
URL:https://forestparkcc.org/event/fpcc-trivia-night-7-9-pm/2028-06-29/
LOCATION:Forest Park Country Club\, 1821 Mulberry Road\, Martinsville\, VA\, 24112\, United States
END:VEVENT
BEGIN:VEVENT
DTSTART;TZID=America/New_York:20280702T130000
DTEND;TZID=America/New_York:20280702T140000
DTSTAMP:20260422T113400
CREATED:20260419T004624Z
LAST-MODIFIED:20260419T004624Z
UID:10000381-1846155600-1846159200@forestparkcc.org
SUMMARY:YOGA with Melissa Sundays 1-2 PM
DESCRIPTION:In the Ballroom upstairs.
URL:https://forestparkcc.org/event/yoga-with-melissa-sundays-1-2-pm/2028-07-02/
LOCATION:Forest Park Country Club\, 1821 Mulberry Road\, Martinsville\, VA\, 24112\, United States
END:VEVENT
BEGIN:VEVENT
DTSTART;TZID=America/New_York:20280705T180000
DTEND;TZID=America/New_York:20280705T200000
DTSTAMP:20260422T113400
CREATED:20260419T003637Z
LAST-MODIFIED:20260419T003637Z
UID:10000100-1846432800-1846440000@forestparkcc.org
SUMMARY:FPCC Book Exchange First Wednesday of Month
DESCRIPTION:In the Grill Room.
URL:https://forestparkcc.org/event/fpcc-book-exchange-first-wednesday-of-month/2028-07-05/
LOCATION:Forest Park Country Club\, 1821 Mulberry Road\, Martinsville\, VA\, 24112\, United States
END:VEVENT
BEGIN:VEVENT
DTSTART;TZID=America/New_York:20280709T130000
DTEND;TZID=America/New_York:20280709T140000
DTSTAMP:20260422T113400
CREATED:20260419T004624Z
LAST-MODIFIED:20260419T004624Z
UID:10000382-1846760400-1846764000@forestparkcc.org
SUMMARY:YOGA with Melissa Sundays 1-2 PM
DESCRIPTION:In the Ballroom upstairs.
URL:https://forestparkcc.org/event/yoga-with-melissa-sundays-1-2-pm/2028-07-09/
LOCATION:Forest Park Country Club\, 1821 Mulberry Road\, Martinsville\, VA\, 24112\, United States
END:VEVENT
BEGIN:VEVENT
DTSTART;TZID=America/New_York:20280713T190000
DTEND;TZID=America/New_York:20280713T210000
DTSTAMP:20260422T113400
CREATED:20260419T004009Z
LAST-MODIFIED:20260419T004009Z
UID:10000192-1847127600-1847134800@forestparkcc.org
SUMMARY:FPCC Trivia Night 7- 9 PM
DESCRIPTION:
URL:https://forestparkcc.org/event/fpcc-trivia-night-7-9-pm/2028-07-13/
LOCATION:Forest Park Country Club\, 1821 Mulberry Road\, Martinsville\, VA\, 24112\, United States
END:VEVENT
BEGIN:VEVENT
DTSTART;TZID=America/New_York:20280716T130000
DTEND;TZID=America/New_York:20280716T140000
DTSTAMP:20260422T113401
CREATED:20260419T004624Z
LAST-MODIFIED:20260419T004624Z
UID:10000383-1847365200-1847368800@forestparkcc.org
SUMMARY:YOGA with Melissa Sundays 1-2 PM
DESCRIPTION:In the Ballroom upstairs.
URL:https://forestparkcc.org/event/yoga-with-melissa-sundays-1-2-pm/2028-07-16/
LOCATION:Forest Park Country Club\, 1821 Mulberry Road\, Martinsville\, VA\, 24112\, United States
END:VEVENT
BEGIN:VEVENT
DTSTART;TZID=America/New_York:20280723T130000
DTEND;TZID=America/New_York:20280723T140000
DTSTAMP:20260422T113401
CREATED:20260419T004624Z
LAST-MODIFIED:20260419T004624Z
UID:10000384-1847970000-1847973600@forestparkcc.org
SUMMARY:YOGA with Melissa Sundays 1-2 PM
DESCRIPTION:In the Ballroom upstairs.
URL:https://forestparkcc.org/event/yoga-with-melissa-sundays-1-2-pm/2028-07-23/
LOCATION:Forest Park Country Club\, 1821 Mulberry Road\, Martinsville\, VA\, 24112\, United States
END:VEVENT
BEGIN:VEVENT
DTSTART;TZID=America/New_York:20280727T190000
DTEND;TZID=America/New_York:20280727T210000
DTSTAMP:20260422T113401
CREATED:20260419T004009Z
LAST-MODIFIED:20260419T004009Z
UID:10000193-1848337200-1848344400@forestparkcc.org
SUMMARY:FPCC Trivia Night 7- 9 PM
DESCRIPTION:
URL:https://forestparkcc.org/event/fpcc-trivia-night-7-9-pm/2028-07-27/
LOCATION:Forest Park Country Club\, 1821 Mulberry Road\, Martinsville\, VA\, 24112\, United States
END:VEVENT
BEGIN:VEVENT
DTSTART;TZID=America/New_York:20280730T130000
DTEND;TZID=America/New_York:20280730T140000
DTSTAMP:20260422T113401
CREATED:20260419T004624Z
LAST-MODIFIED:20260419T004624Z
UID:10000385-1848574800-1848578400@forestparkcc.org
SUMMARY:YOGA with Melissa Sundays 1-2 PM
DESCRIPTION:In the Ballroom upstairs.
URL:https://forestparkcc.org/event/yoga-with-melissa-sundays-1-2-pm/2028-07-30/
LOCATION:Forest Park Country Club\, 1821 Mulberry Road\, Martinsville\, VA\, 24112\, United States
END:VEVENT
BEGIN:VEVENT
DTSTART;TZID=America/New_York:20280802T180000
DTEND;TZID=America/New_York:20280802T200000
DTSTAMP:20260422T113401
CREATED:20260419T003637Z
LAST-MODIFIED:20260419T003637Z
UID:10000101-1848852000-1848859200@forestparkcc.org
SUMMARY:FPCC Book Exchange First Wednesday of Month
DESCRIPTION:In the Grill Room.
URL:https://forestparkcc.org/event/fpcc-book-exchange-first-wednesday-of-month/2028-08-02/
LOCATION:Forest Park Country Club\, 1821 Mulberry Road\, Martinsville\, VA\, 24112\, United States
END:VEVENT
BEGIN:VEVENT
DTSTART;TZID=America/New_York:20280806T130000
DTEND;TZID=America/New_York:20280806T140000
DTSTAMP:20260422T113401
CREATED:20260419T004624Z
LAST-MODIFIED:20260419T004624Z
UID:10000386-1849179600-1849183200@forestparkcc.org
SUMMARY:YOGA with Melissa Sundays 1-2 PM
DESCRIPTION:In the Ballroom upstairs.
URL:https://forestparkcc.org/event/yoga-with-melissa-sundays-1-2-pm/2028-08-06/
LOCATION:Forest Park Country Club\, 1821 Mulberry Road\, Martinsville\, VA\, 24112\, United States
END:VEVENT
BEGIN:VEVENT
DTSTART;TZID=America/New_York:20280810T190000
DTEND;TZID=America/New_York:20280810T210000
DTSTAMP:20260422T113401
CREATED:20260419T004009Z
LAST-MODIFIED:20260419T004009Z
UID:10000194-1849546800-1849554000@forestparkcc.org
SUMMARY:FPCC Trivia Night 7- 9 PM
DESCRIPTION:
URL:https://forestparkcc.org/event/fpcc-trivia-night-7-9-pm/2028-08-10/
LOCATION:Forest Park Country Club\, 1821 Mulberry Road\, Martinsville\, VA\, 24112\, United States
END:VEVENT
BEGIN:VEVENT
DTSTART;TZID=America/New_York:20280813T130000
DTEND;TZID=America/New_York:20280813T140000
DTSTAMP:20260422T113401
CREATED:20260419T004624Z
LAST-MODIFIED:20260419T004624Z
UID:10000387-1849784400-1849788000@forestparkcc.org
SUMMARY:YOGA with Melissa Sundays 1-2 PM
DESCRIPTION:In the Ballroom upstairs.
URL:https://forestparkcc.org/event/yoga-with-melissa-sundays-1-2-pm/2028-08-13/
LOCATION:Forest Park Country Club\, 1821 Mulberry Road\, Martinsville\, VA\, 24112\, United States
END:VEVENT
BEGIN:VEVENT
DTSTART;TZID=America/New_York:20280820T130000
DTEND;TZID=America/New_York:20280820T140000
DTSTAMP:20260422T113401
CREATED:20260419T004624Z
LAST-MODIFIED:20260419T004624Z
UID:10000388-1850389200-1850392800@forestparkcc.org
SUMMARY:YOGA with Melissa Sundays 1-2 PM
DESCRIPTION:In the Ballroom upstairs.
URL:https://forestparkcc.org/event/yoga-with-melissa-sundays-1-2-pm/2028-08-20/
LOCATION:Forest Park Country Club\, 1821 Mulberry Road\, Martinsville\, VA\, 24112\, United States
END:VEVENT
BEGIN:VEVENT
DTSTART;TZID=America/New_York:20280824T190000
DTEND;TZID=America/New_York:20280824T210000
DTSTAMP:20260422T113401
CREATED:20260419T004009Z
LAST-MODIFIED:20260419T004009Z
UID:10000195-1850756400-1850763600@forestparkcc.org
SUMMARY:FPCC Trivia Night 7- 9 PM
DESCRIPTION:
URL:https://forestparkcc.org/event/fpcc-trivia-night-7-9-pm/2028-08-24/
LOCATION:Forest Park Country Club\, 1821 Mulberry Road\, Martinsville\, VA\, 24112\, United States
END:VEVENT
BEGIN:VEVENT
DTSTART;TZID=America/New_York:20280827T130000
DTEND;TZID=America/New_York:20280827T140000
DTSTAMP:20260422T113401
CREATED:20260419T004624Z
LAST-MODIFIED:20260419T004624Z
UID:10000389-1850994000-1850997600@forestparkcc.org
SUMMARY:YOGA with Melissa Sundays 1-2 PM
DESCRIPTION:In the Ballroom upstairs.
URL:https://forestparkcc.org/event/yoga-with-melissa-sundays-1-2-pm/2028-08-27/
LOCATION:Forest Park Country Club\, 1821 Mulberry Road\, Martinsville\, VA\, 24112\, United States
END:VEVENT
BEGIN:VEVENT
DTSTART;TZID=America/New_York:20280903T130000
DTEND;TZID=America/New_York:20280903T140000
DTSTAMP:20260422T113401
CREATED:20260419T004624Z
LAST-MODIFIED:20260419T004624Z
UID:10000390-1851598800-1851602400@forestparkcc.org
SUMMARY:YOGA with Melissa Sundays 1-2 PM
DESCRIPTION:In the Ballroom upstairs.
URL:https://forestparkcc.org/event/yoga-with-melissa-sundays-1-2-pm/2028-09-03/
LOCATION:Forest Park Country Club\, 1821 Mulberry Road\, Martinsville\, VA\, 24112\, United States
END:VEVENT
BEGIN:VEVENT
DTSTART;TZID=America/New_York:20280906T180000
DTEND;TZID=America/New_York:20280906T200000
DTSTAMP:20260422T113401
CREATED:20260419T003637Z
LAST-MODIFIED:20260419T003637Z
UID:10000102-1851876000-1851883200@forestparkcc.org
SUMMARY:FPCC Book Exchange First Wednesday of Month
DESCRIPTION:In the Grill Room.
URL:https://forestparkcc.org/event/fpcc-book-exchange-first-wednesday-of-month/2028-09-06/
LOCATION:Forest Park Country Club\, 1821 Mulberry Road\, Martinsville\, VA\, 24112\, United States
END:VEVENT
BEGIN:VEVENT
DTSTART;TZID=America/New_York:20280907T190000
DTEND;TZID=America/New_York:20280907T210000
DTSTAMP:20260422T113401
CREATED:20260419T004009Z
LAST-MODIFIED:20260419T004009Z
UID:10000196-1851966000-1851973200@forestparkcc.org
SUMMARY:FPCC Trivia Night 7- 9 PM
DESCRIPTION:
URL:https://forestparkcc.org/event/fpcc-trivia-night-7-9-pm/2028-09-07/
LOCATION:Forest Park Country Club\, 1821 Mulberry Road\, Martinsville\, VA\, 24112\, United States
END:VEVENT
BEGIN:VEVENT
DTSTART;TZID=America/New_York:20280910T130000
DTEND;TZID=America/New_York:20280910T140000
DTSTAMP:20260422T113401
CREATED:20260419T004624Z
LAST-MODIFIED:20260419T004624Z
UID:10000391-1852203600-1852207200@forestparkcc.org
SUMMARY:YOGA with Melissa Sundays 1-2 PM
DESCRIPTION:In the Ballroom upstairs.
URL:https://forestparkcc.org/event/yoga-with-melissa-sundays-1-2-pm/2028-09-10/
LOCATION:Forest Park Country Club\, 1821 Mulberry Road\, Martinsville\, VA\, 24112\, United States
END:VEVENT
BEGIN:VEVENT
DTSTART;TZID=America/New_York:20280917T130000
DTEND;TZID=America/New_York:20280917T140000
DTSTAMP:20260422T113401
CREATED:20260419T004624Z
LAST-MODIFIED:20260419T004624Z
UID:10000392-1852808400-1852812000@forestparkcc.org
SUMMARY:YOGA with Melissa Sundays 1-2 PM
DESCRIPTION:In the Ballroom upstairs.
URL:https://forestparkcc.org/event/yoga-with-melissa-sundays-1-2-pm/2028-09-17/
LOCATION:Forest Park Country Club\, 1821 Mulberry Road\, Martinsville\, VA\, 24112\, United States
END:VEVENT
BEGIN:VEVENT
DTSTART;TZID=America/New_York:20280921T190000
DTEND;TZID=America/New_York:20280921T210000
DTSTAMP:20260422T113401
CREATED:20260419T004009Z
LAST-MODIFIED:20260419T004009Z
UID:10000197-1853175600-1853182800@forestparkcc.org
SUMMARY:FPCC Trivia Night 7- 9 PM
DESCRIPTION:
URL:https://forestparkcc.org/event/fpcc-trivia-night-7-9-pm/2028-09-21/
LOCATION:Forest Park Country Club\, 1821 Mulberry Road\, Martinsville\, VA\, 24112\, United States
END:VEVENT
BEGIN:VEVENT
DTSTART;TZID=America/New_York:20280924T130000
DTEND;TZID=America/New_York:20280924T140000
DTSTAMP:20260422T113401
CREATED:20260419T004624Z
LAST-MODIFIED:20260419T004624Z
UID:10000393-1853413200-1853416800@forestparkcc.org
SUMMARY:YOGA with Melissa Sundays 1-2 PM
DESCRIPTION:In the Ballroom upstairs.
URL:https://forestparkcc.org/event/yoga-with-melissa-sundays-1-2-pm/2028-09-24/
LOCATION:Forest Park Country Club\, 1821 Mulberry Road\, Martinsville\, VA\, 24112\, United States
END:VEVENT
BEGIN:VEVENT
DTSTART;TZID=America/New_York:20281001T130000
DTEND;TZID=America/New_York:20281001T140000
DTSTAMP:20260422T113401
CREATED:20260419T004624Z
LAST-MODIFIED:20260419T004624Z
UID:10000394-1854018000-1854021600@forestparkcc.org
SUMMARY:YOGA with Melissa Sundays 1-2 PM
DESCRIPTION:In the Ballroom upstairs.
URL:https://forestparkcc.org/event/yoga-with-melissa-sundays-1-2-pm/2028-10-01/
LOCATION:Forest Park Country Club\, 1821 Mulberry Road\, Martinsville\, VA\, 24112\, United States
END:VEVENT
END:VCALENDAR