BEGIN:VCALENDAR
VERSION:2.0
PRODID:-//Forest Park Country Club | &quot;The Park&quot; - ECPv6.15.20//NONSGML v1.0//EN
CALSCALE:GREGORIAN
METHOD:PUBLISH
X-WR-CALNAME:Forest Park Country Club | &quot;The Park&quot;
X-ORIGINAL-URL:https://forestparkcc.org
X-WR-CALDESC:Events for Forest Park Country Club | &quot;The Park&quot;
REFRESH-INTERVAL;VALUE=DURATION:PT1H
X-Robots-Tag:noindex
X-PUBLISHED-TTL:PT1H
BEGIN:VTIMEZONE
TZID:America/New_York
BEGIN:DAYLIGHT
TZOFFSETFROM:-0500
TZOFFSETTO:-0400
TZNAME:EDT
DTSTART:20250309T070000
END:DAYLIGHT
BEGIN:STANDARD
TZOFFSETFROM:-0400
TZOFFSETTO:-0500
TZNAME:EST
DTSTART:20251102T060000
END:STANDARD
BEGIN:DAYLIGHT
TZOFFSETFROM:-0500
TZOFFSETTO:-0400
TZNAME:EDT
DTSTART:20260308T070000
END:DAYLIGHT
BEGIN:STANDARD
TZOFFSETFROM:-0400
TZOFFSETTO:-0500
TZNAME:EST
DTSTART:20261101T060000
END:STANDARD
BEGIN:DAYLIGHT
TZOFFSETFROM:-0500
TZOFFSETTO:-0400
TZNAME:EDT
DTSTART:20270314T070000
END:DAYLIGHT
BEGIN:STANDARD
TZOFFSETFROM:-0400
TZOFFSETTO:-0500
TZNAME:EST
DTSTART:20271107T060000
END:STANDARD
END:VTIMEZONE
BEGIN:VEVENT
DTSTART;TZID=America/New_York:20260524T130000
DTEND;TZID=America/New_York:20260524T140000
DTSTAMP:20260425T072326
CREATED:20260419T004624Z
LAST-MODIFIED:20260419T004624Z
UID:10000271-1779627600-1779631200@forestparkcc.org
SUMMARY:YOGA with Melissa Sundays 1-2 PM
DESCRIPTION:In the Ballroom upstairs.
URL:https://forestparkcc.org/event/yoga-with-melissa-sundays-1-2-pm/2026-05-24/
LOCATION:Forest Park Country Club\, 1821 Mulberry Road\, Martinsville\, VA\, 24112\, United States
END:VEVENT
BEGIN:VEVENT
DTSTART;VALUE=DATE:20260523
DTEND;VALUE=DATE:20260524
DTSTAMP:20260425T072326
CREATED:20260419T005248Z
LAST-MODIFIED:20260424T213550Z
UID:10000530-1779494400-1779580799@forestparkcc.org
SUMMARY:FPCC GOLF Kearfott Tournament May 23\, 2026
DESCRIPTION:Information in the Pro Shop 276-632-1711
URL:/event/fpcc-golf-kearfott-tournament/
LOCATION:Forest Park Country Club\, 1821 Mulberry Road\, Martinsville\, VA\, 24112\, United States
END:VEVENT
BEGIN:VEVENT
DTSTART;VALUE=DATE:20260522
DTEND;VALUE=DATE:20260526
DTSTAMP:20260425T072326
CREATED:20260419T005923Z
LAST-MODIFIED:20260419T010800Z
UID:10000531-1779408000-1779753599@forestparkcc.org
SUMMARY:FPCC POOL SEASON 2026 BEGINS!!  Memorial Day Weekend May 22-25\, 2026
DESCRIPTION:
URL:/event/fpcc-pool-season-2026-begins/
LOCATION:Forest Park Country Club\, 1821 Mulberry Road\, Martinsville\, VA\, 24112\, United States
END:VEVENT
BEGIN:VEVENT
DTSTART;TZID=America/New_York:20260521T190000
DTEND;TZID=America/New_York:20260521T210000
DTSTAMP:20260425T072326
CREATED:20260419T004009Z
LAST-MODIFIED:20260419T004009Z
UID:10000136-1779390000-1779397200@forestparkcc.org
SUMMARY:FPCC Trivia Night 7- 9 PM
DESCRIPTION:
URL:https://forestparkcc.org/event/fpcc-trivia-night-7-9-pm/2026-05-21/
LOCATION:Forest Park Country Club\, 1821 Mulberry Road\, Martinsville\, VA\, 24112\, United States
END:VEVENT
BEGIN:VEVENT
DTSTART;TZID=America/New_York:20260517T130000
DTEND;TZID=America/New_York:20260517T140000
DTSTAMP:20260425T072326
CREATED:20260419T004624Z
LAST-MODIFIED:20260419T004624Z
UID:10000270-1779022800-1779026400@forestparkcc.org
SUMMARY:YOGA with Melissa Sundays 1-2 PM
DESCRIPTION:In the Ballroom upstairs.
URL:https://forestparkcc.org/event/yoga-with-melissa-sundays-1-2-pm/2026-05-17/
LOCATION:Forest Park Country Club\, 1821 Mulberry Road\, Martinsville\, VA\, 24112\, United States
END:VEVENT
BEGIN:VEVENT
DTSTART;VALUE=DATE:20260516
DTEND;VALUE=DATE:20260517
DTSTAMP:20260425T072326
CREATED:20260419T005109Z
LAST-MODIFIED:20260424T213628Z
UID:10000529-1778889600-1778975999@forestparkcc.org
SUMMARY:FPCC GOLF Spencer Penn Center Tournament May 16\, 2026
DESCRIPTION:Information in the Pro Shop 276-632-1711
URL:/event/fpcc-golf-spencer-penn-center-tournament/
LOCATION:Forest Park Country Club\, 1821 Mulberry Road\, Martinsville\, VA\, 24112\, United States
END:VEVENT
BEGIN:VEVENT
DTSTART;TZID=America/New_York:20260510T130000
DTEND;TZID=America/New_York:20260510T140000
DTSTAMP:20260425T072326
CREATED:20260419T004624Z
LAST-MODIFIED:20260419T004624Z
UID:10000269-1778418000-1778421600@forestparkcc.org
SUMMARY:YOGA with Melissa Sundays 1-2 PM
DESCRIPTION:In the Ballroom upstairs.
URL:https://forestparkcc.org/event/yoga-with-melissa-sundays-1-2-pm/2026-05-10/
LOCATION:Forest Park Country Club\, 1821 Mulberry Road\, Martinsville\, VA\, 24112\, United States
END:VEVENT
BEGIN:VEVENT
DTSTART;TZID=America/New_York:20260509T140000
DTEND;TZID=America/New_York:20260509T160000
DTSTAMP:20260425T072326
CREATED:20260419T004951Z
LAST-MODIFIED:20260419T013220Z
UID:10000528-1778335200-1778342400@forestparkcc.org
SUMMARY:MHS Band on Patio at 2 pm
DESCRIPTION:
URL:/event/mhs-band-on-patio-at-2-pm/
LOCATION:Forest Park Country Club\, 1821 Mulberry Road\, Martinsville\, VA\, 24112\, United States
END:VEVENT
BEGIN:VEVENT
DTSTART;VALUE=DATE:20260509
DTEND;VALUE=DATE:20260510
DTSTAMP:20260425T072326
CREATED:20260419T004852Z
LAST-MODIFIED:20260424T213709Z
UID:10000527-1778284800-1778371199@forestparkcc.org
SUMMARY:FPCC GOLF Magna Vista Tennis Team Golf Tournament May 9\, 2026
DESCRIPTION:Information at the Pro Shop 276-632-1711
URL:/event/fpcc-golf-magna-vista-tennis-team-golf-tournament/
LOCATION:Forest Park Country Club\, 1821 Mulberry Road\, Martinsville\, VA\, 24112\, United States
END:VEVENT
BEGIN:VEVENT
DTSTART;TZID=America/New_York:20260508T190000
DTEND;TZID=America/New_York:20260508T210000
DTSTAMP:20260425T072326
CREATED:20260419T004330Z
LAST-MODIFIED:20260419T004330Z
UID:10000265-1778266800-1778274000@forestparkcc.org
SUMMARY:REJAM Music in the Clubhouse Grill at 7 PM
DESCRIPTION:Clubhouse Grill
URL:/event/rejam-music-in-the-clubhouse-grill-at-7-pm/
LOCATION:Forest Park Country Club\, 1821 Mulberry Road\, Martinsville\, VA\, 24112\, United States
END:VEVENT
BEGIN:VEVENT
DTSTART;TZID=America/New_York:20260507T190000
DTEND;TZID=America/New_York:20260507T210000
DTSTAMP:20260425T072326
CREATED:20260419T004009Z
LAST-MODIFIED:20260419T004009Z
UID:10000135-1778180400-1778187600@forestparkcc.org
SUMMARY:FPCC Trivia Night 7- 9 PM
DESCRIPTION:
URL:https://forestparkcc.org/event/fpcc-trivia-night-7-9-pm/2026-05-07/
LOCATION:Forest Park Country Club\, 1821 Mulberry Road\, Martinsville\, VA\, 24112\, United States
END:VEVENT
BEGIN:VEVENT
DTSTART;TZID=America/New_York:20260506T180000
DTEND;TZID=America/New_York:20260506T200000
DTSTAMP:20260425T072326
CREATED:20260419T003637Z
LAST-MODIFIED:20260419T003637Z
UID:10000074-1778090400-1778097600@forestparkcc.org
SUMMARY:FPCC Book Exchange First Wednesday of Month
DESCRIPTION:In the Grill Room.
URL:https://forestparkcc.org/event/fpcc-book-exchange-first-wednesday-of-month/2026-05-06/
LOCATION:Forest Park Country Club\, 1821 Mulberry Road\, Martinsville\, VA\, 24112\, United States
END:VEVENT
BEGIN:VEVENT
DTSTART;TZID=America/New_York:20260503T130000
DTEND;TZID=America/New_York:20260503T140000
DTSTAMP:20260425T072326
CREATED:20260419T004624Z
LAST-MODIFIED:20260419T004624Z
UID:10000268-1777813200-1777816800@forestparkcc.org
SUMMARY:YOGA with Melissa Sundays 1-2 PM
DESCRIPTION:In the Ballroom upstairs.
URL:https://forestparkcc.org/event/yoga-with-melissa-sundays-1-2-pm/2026-05-03/
LOCATION:Forest Park Country Club\, 1821 Mulberry Road\, Martinsville\, VA\, 24112\, United States
END:VEVENT
BEGIN:VEVENT
DTSTART;TZID=America/New_York:20260430T180000
DTEND;TZID=America/New_York:20260430T210000
DTSTAMP:20260425T072326
CREATED:20260424T212614Z
LAST-MODIFIED:20260424T212729Z
UID:10000533-1777572000-1777582800@forestparkcc.org
SUMMARY:STEAK NIGHT The Clubhouse Grill April 30\, 2026
DESCRIPTION:Please RSVP by Wednesday April 29th \nAll steaks will be served medium rare.  Please allow for extra time if you would like well-done. \n 
URL:/event/steak-night-the-clubhouse-grill-april-30-2026/
LOCATION:Forest Park Country Club\, 1821 Mulberry Road\, Martinsville\, VA\, 24112\, United States
END:VEVENT
BEGIN:VEVENT
DTSTART;TZID=America/New_York:20260426T130000
DTEND;TZID=America/New_York:20260426T140000
DTSTAMP:20260425T072326
CREATED:20260419T004624Z
LAST-MODIFIED:20260419T004624Z
UID:10000267-1777208400-1777212000@forestparkcc.org
SUMMARY:YOGA with Melissa Sundays 1-2 PM
DESCRIPTION:In the Ballroom upstairs.
URL:https://forestparkcc.org/event/yoga-with-melissa-sundays-1-2-pm/2026-04-26/
LOCATION:Forest Park Country Club\, 1821 Mulberry Road\, Martinsville\, VA\, 24112\, United States
END:VEVENT
BEGIN:VEVENT
DTSTART;VALUE=DATE:20260425
DTEND;VALUE=DATE:20260426
DTSTAMP:20260425T072326
CREATED:20260419T002405Z
LAST-MODIFIED:20260424T213810Z
UID:10000013-1777075200-1777161599@forestparkcc.org
SUMMARY:FPCC GOLF The Kovac April 25\, 2026
DESCRIPTION:Sign up in the Pro Shop 276-632-1711
URL:/event/fpcc-golf-the-kovac-april-25-2026/
LOCATION:Forest Park Country Club\, 1821 Mulberry Road\, Martinsville\, VA\, 24112\, United States
END:VEVENT
BEGIN:VEVENT
DTSTART;TZID=America/New_York:20260423T190000
DTEND;TZID=America/New_York:20260423T210000
DTSTAMP:20260425T072326
CREATED:20260419T004009Z
LAST-MODIFIED:20260419T004009Z
UID:10000134-1776970800-1776978000@forestparkcc.org
SUMMARY:FPCC Trivia Night 7- 9 PM
DESCRIPTION:
URL:https://forestparkcc.org/event/fpcc-trivia-night-7-9-pm/2026-04-23/
LOCATION:Forest Park Country Club\, 1821 Mulberry Road\, Martinsville\, VA\, 24112\, United States
END:VEVENT
BEGIN:VEVENT
DTSTART;TZID=America/New_York:20260419T130000
DTEND;TZID=America/New_York:20260419T140000
DTSTAMP:20260425T072326
CREATED:20260419T004624Z
LAST-MODIFIED:20260419T004624Z
UID:10000266-1776603600-1776607200@forestparkcc.org
SUMMARY:YOGA with Melissa Sundays 1-2 PM
DESCRIPTION:In the Ballroom upstairs.
URL:https://forestparkcc.org/event/yoga-with-melissa-sundays-1-2-pm/2026-04-19/
LOCATION:Forest Park Country Club\, 1821 Mulberry Road\, Martinsville\, VA\, 24112\, United States
END:VEVENT
BEGIN:VEVENT
DTSTART;TZID=America/New_York:20260327T190000
DTEND;TZID=America/New_York:20260327T210000
DTSTAMP:20260425T072326
CREATED:20260312T135359Z
LAST-MODIFIED:20260312T135359Z
UID:10000002-1774638000-1774645200@forestparkcc.org
SUMMARY:MURDER MYSTERY DINNER
DESCRIPTION:Join us for a thrilling night of mystery\, secrets\, and suspense! \nWho will solve the mystery… before it’s too late? \nThe sign up sheet is available at The Clubhouse Grill & Pro Shop.  Must sign up by March 20th. \nHORS D’OEUVRES HILL BE SERVED.  CASH BAR WILL BE AVAILABLE
URL:/event/murder-mystery-dinner/
LOCATION:Forest Park Country Club\, 1821 Mulberry Road\, Martinsville\, VA\, 24112\, United States
ATTACH;FMTTYPE=image/jpeg:/wp-content/uploads/2026/03/644944680_1555099629671185_9114994330292539914_n.jpg
END:VEVENT
BEGIN:VEVENT
DTSTART;TZID=America/New_York:20260312T190000
DTEND;TZID=America/New_York:20260312T210000
DTSTAMP:20260425T072326
CREATED:20260312T134407Z
LAST-MODIFIED:20260312T142719Z
UID:10000001-1773342000-1773349200@forestparkcc.org
SUMMARY:ST. PATRICK'S DAY TRIVIA NIGHT!
DESCRIPTION:St. Patricks Day Themed Trivia \nWinning Trivia Team will receive a $25 Gift Card to The Clubhouse Grill! \nDress up in your best Irish Attire and You could win a $15 gift card!
URL:/event/st-patricks-day-trivia-night/
LOCATION:Forest Park Country Club\, 1821 Mulberry Road\, Martinsville\, VA\, 24112\, United States
ATTACH;FMTTYPE=image/jpeg:/wp-content/uploads/2026/03/648859487_1559291112585370_9042476759136338078_n.jpg
END:VEVENT
END:VCALENDAR