BEGIN:VCALENDAR
VERSION:2.0
PRODID:-//Forest Park Country Club | &quot;The Park&quot; - ECPv6.15.20//NONSGML v1.0//EN
CALSCALE:GREGORIAN
METHOD:PUBLISH
X-ORIGINAL-URL:https://forestparkcc.org
X-WR-CALDESC:Events for Forest Park Country Club | &quot;The Park&quot;
REFRESH-INTERVAL;VALUE=DURATION:PT1H
X-Robots-Tag:noindex
X-PUBLISHED-TTL:PT1H
BEGIN:VTIMEZONE
TZID:America/New_York
BEGIN:DAYLIGHT
TZOFFSETFROM:-0500
TZOFFSETTO:-0400
TZNAME:EDT
DTSTART:20280312T070000
END:DAYLIGHT
BEGIN:STANDARD
TZOFFSETFROM:-0400
TZOFFSETTO:-0500
TZNAME:EST
DTSTART:20281105T060000
END:STANDARD
BEGIN:DAYLIGHT
TZOFFSETFROM:-0500
TZOFFSETTO:-0400
TZNAME:EDT
DTSTART:20290311T070000
END:DAYLIGHT
BEGIN:STANDARD
TZOFFSETFROM:-0400
TZOFFSETTO:-0500
TZNAME:EST
DTSTART:20291104T060000
END:STANDARD
BEGIN:DAYLIGHT
TZOFFSETFROM:-0500
TZOFFSETTO:-0400
TZNAME:EDT
DTSTART:20300310T070000
END:DAYLIGHT
BEGIN:STANDARD
TZOFFSETFROM:-0400
TZOFFSETTO:-0500
TZNAME:EST
DTSTART:20301103T060000
END:STANDARD
END:VTIMEZONE
BEGIN:VEVENT
DTSTART;TZID=America/New_York:20290503T190000
DTEND;TZID=America/New_York:20290503T210000
DTSTAMP:20260425T091402
CREATED:20260419T004009Z
LAST-MODIFIED:20260419T004009Z
UID:10000213-1872529200-1872536400@forestparkcc.org
SUMMARY:FPCC Trivia Night 7- 9 PM
DESCRIPTION:
URL:https://forestparkcc.org/event/fpcc-trivia-night-7-9-pm/2029-05-03/
LOCATION:Forest Park Country Club\, 1821 Mulberry Road\, Martinsville\, VA\, 24112\, United States
END:VEVENT
BEGIN:VEVENT
DTSTART;TZID=America/New_York:20290506T130000
DTEND;TZID=America/New_York:20290506T140000
DTSTAMP:20260425T091402
CREATED:20260419T004624Z
LAST-MODIFIED:20260419T004624Z
UID:10000425-1872766800-1872770400@forestparkcc.org
SUMMARY:YOGA with Melissa Sundays 1-2 PM
DESCRIPTION:In the Ballroom upstairs.
URL:https://forestparkcc.org/event/yoga-with-melissa-sundays-1-2-pm/2029-05-06/
LOCATION:Forest Park Country Club\, 1821 Mulberry Road\, Martinsville\, VA\, 24112\, United States
END:VEVENT
BEGIN:VEVENT
DTSTART;TZID=America/New_York:20290513T130000
DTEND;TZID=America/New_York:20290513T140000
DTSTAMP:20260425T091402
CREATED:20260419T004624Z
LAST-MODIFIED:20260419T004624Z
UID:10000426-1873371600-1873375200@forestparkcc.org
SUMMARY:YOGA with Melissa Sundays 1-2 PM
DESCRIPTION:In the Ballroom upstairs.
URL:https://forestparkcc.org/event/yoga-with-melissa-sundays-1-2-pm/2029-05-13/
LOCATION:Forest Park Country Club\, 1821 Mulberry Road\, Martinsville\, VA\, 24112\, United States
END:VEVENT
BEGIN:VEVENT
DTSTART;TZID=America/New_York:20290517T190000
DTEND;TZID=America/New_York:20290517T210000
DTSTAMP:20260425T091402
CREATED:20260419T004009Z
LAST-MODIFIED:20260419T004009Z
UID:10000214-1873738800-1873746000@forestparkcc.org
SUMMARY:FPCC Trivia Night 7- 9 PM
DESCRIPTION:
URL:https://forestparkcc.org/event/fpcc-trivia-night-7-9-pm/2029-05-17/
LOCATION:Forest Park Country Club\, 1821 Mulberry Road\, Martinsville\, VA\, 24112\, United States
END:VEVENT
BEGIN:VEVENT
DTSTART;TZID=America/New_York:20290520T130000
DTEND;TZID=America/New_York:20290520T140000
DTSTAMP:20260425T091402
CREATED:20260419T004624Z
LAST-MODIFIED:20260419T004624Z
UID:10000427-1873976400-1873980000@forestparkcc.org
SUMMARY:YOGA with Melissa Sundays 1-2 PM
DESCRIPTION:In the Ballroom upstairs.
URL:https://forestparkcc.org/event/yoga-with-melissa-sundays-1-2-pm/2029-05-20/
LOCATION:Forest Park Country Club\, 1821 Mulberry Road\, Martinsville\, VA\, 24112\, United States
END:VEVENT
BEGIN:VEVENT
DTSTART;TZID=America/New_York:20290527T130000
DTEND;TZID=America/New_York:20290527T140000
DTSTAMP:20260425T091402
CREATED:20260419T004624Z
LAST-MODIFIED:20260419T004624Z
UID:10000428-1874581200-1874584800@forestparkcc.org
SUMMARY:YOGA with Melissa Sundays 1-2 PM
DESCRIPTION:In the Ballroom upstairs.
URL:https://forestparkcc.org/event/yoga-with-melissa-sundays-1-2-pm/2029-05-27/
LOCATION:Forest Park Country Club\, 1821 Mulberry Road\, Martinsville\, VA\, 24112\, United States
END:VEVENT
BEGIN:VEVENT
DTSTART;TZID=America/New_York:20290531T190000
DTEND;TZID=America/New_York:20290531T210000
DTSTAMP:20260425T091402
CREATED:20260419T004009Z
LAST-MODIFIED:20260419T004009Z
UID:10000215-1874948400-1874955600@forestparkcc.org
SUMMARY:FPCC Trivia Night 7- 9 PM
DESCRIPTION:
URL:https://forestparkcc.org/event/fpcc-trivia-night-7-9-pm/2029-05-31/
LOCATION:Forest Park Country Club\, 1821 Mulberry Road\, Martinsville\, VA\, 24112\, United States
END:VEVENT
BEGIN:VEVENT
DTSTART;TZID=America/New_York:20290603T130000
DTEND;TZID=America/New_York:20290603T140000
DTSTAMP:20260425T091402
CREATED:20260419T004624Z
LAST-MODIFIED:20260419T004624Z
UID:10000429-1875186000-1875189600@forestparkcc.org
SUMMARY:YOGA with Melissa Sundays 1-2 PM
DESCRIPTION:In the Ballroom upstairs.
URL:https://forestparkcc.org/event/yoga-with-melissa-sundays-1-2-pm/2029-06-03/
LOCATION:Forest Park Country Club\, 1821 Mulberry Road\, Martinsville\, VA\, 24112\, United States
END:VEVENT
BEGIN:VEVENT
DTSTART;TZID=America/New_York:20290606T180000
DTEND;TZID=America/New_York:20290606T200000
DTSTAMP:20260425T091402
CREATED:20260419T003637Z
LAST-MODIFIED:20260419T003637Z
UID:10000111-1875463200-1875470400@forestparkcc.org
SUMMARY:FPCC Book Exchange First Wednesday of Month
DESCRIPTION:In the Grill Room.
URL:https://forestparkcc.org/event/fpcc-book-exchange-first-wednesday-of-month/2029-06-06/
LOCATION:Forest Park Country Club\, 1821 Mulberry Road\, Martinsville\, VA\, 24112\, United States
END:VEVENT
BEGIN:VEVENT
DTSTART;TZID=America/New_York:20290610T130000
DTEND;TZID=America/New_York:20290610T140000
DTSTAMP:20260425T091402
CREATED:20260419T004624Z
LAST-MODIFIED:20260419T004624Z
UID:10000430-1875790800-1875794400@forestparkcc.org
SUMMARY:YOGA with Melissa Sundays 1-2 PM
DESCRIPTION:In the Ballroom upstairs.
URL:https://forestparkcc.org/event/yoga-with-melissa-sundays-1-2-pm/2029-06-10/
LOCATION:Forest Park Country Club\, 1821 Mulberry Road\, Martinsville\, VA\, 24112\, United States
END:VEVENT
BEGIN:VEVENT
DTSTART;TZID=America/New_York:20290614T190000
DTEND;TZID=America/New_York:20290614T210000
DTSTAMP:20260425T091402
CREATED:20260419T004009Z
LAST-MODIFIED:20260419T004009Z
UID:10000216-1876158000-1876165200@forestparkcc.org
SUMMARY:FPCC Trivia Night 7- 9 PM
DESCRIPTION:
URL:https://forestparkcc.org/event/fpcc-trivia-night-7-9-pm/2029-06-14/
LOCATION:Forest Park Country Club\, 1821 Mulberry Road\, Martinsville\, VA\, 24112\, United States
END:VEVENT
BEGIN:VEVENT
DTSTART;TZID=America/New_York:20290617T130000
DTEND;TZID=America/New_York:20290617T140000
DTSTAMP:20260425T091402
CREATED:20260419T004624Z
LAST-MODIFIED:20260419T004624Z
UID:10000431-1876395600-1876399200@forestparkcc.org
SUMMARY:YOGA with Melissa Sundays 1-2 PM
DESCRIPTION:In the Ballroom upstairs.
URL:https://forestparkcc.org/event/yoga-with-melissa-sundays-1-2-pm/2029-06-17/
LOCATION:Forest Park Country Club\, 1821 Mulberry Road\, Martinsville\, VA\, 24112\, United States
END:VEVENT
BEGIN:VEVENT
DTSTART;TZID=America/New_York:20290624T130000
DTEND;TZID=America/New_York:20290624T140000
DTSTAMP:20260425T091402
CREATED:20260419T004624Z
LAST-MODIFIED:20260419T004624Z
UID:10000432-1877000400-1877004000@forestparkcc.org
SUMMARY:YOGA with Melissa Sundays 1-2 PM
DESCRIPTION:In the Ballroom upstairs.
URL:https://forestparkcc.org/event/yoga-with-melissa-sundays-1-2-pm/2029-06-24/
LOCATION:Forest Park Country Club\, 1821 Mulberry Road\, Martinsville\, VA\, 24112\, United States
END:VEVENT
BEGIN:VEVENT
DTSTART;TZID=America/New_York:20290628T190000
DTEND;TZID=America/New_York:20290628T210000
DTSTAMP:20260425T091402
CREATED:20260419T004009Z
LAST-MODIFIED:20260419T004009Z
UID:10000217-1877367600-1877374800@forestparkcc.org
SUMMARY:FPCC Trivia Night 7- 9 PM
DESCRIPTION:
URL:https://forestparkcc.org/event/fpcc-trivia-night-7-9-pm/2029-06-28/
LOCATION:Forest Park Country Club\, 1821 Mulberry Road\, Martinsville\, VA\, 24112\, United States
END:VEVENT
BEGIN:VEVENT
DTSTART;TZID=America/New_York:20290701T130000
DTEND;TZID=America/New_York:20290701T140000
DTSTAMP:20260425T091402
CREATED:20260419T004624Z
LAST-MODIFIED:20260419T004624Z
UID:10000433-1877605200-1877608800@forestparkcc.org
SUMMARY:YOGA with Melissa Sundays 1-2 PM
DESCRIPTION:In the Ballroom upstairs.
URL:https://forestparkcc.org/event/yoga-with-melissa-sundays-1-2-pm/2029-07-01/
LOCATION:Forest Park Country Club\, 1821 Mulberry Road\, Martinsville\, VA\, 24112\, United States
END:VEVENT
BEGIN:VEVENT
DTSTART;TZID=America/New_York:20290704T180000
DTEND;TZID=America/New_York:20290704T200000
DTSTAMP:20260425T091402
CREATED:20260419T003637Z
LAST-MODIFIED:20260419T003637Z
UID:10000112-1877882400-1877889600@forestparkcc.org
SUMMARY:FPCC Book Exchange First Wednesday of Month
DESCRIPTION:In the Grill Room.
URL:https://forestparkcc.org/event/fpcc-book-exchange-first-wednesday-of-month/2029-07-04/
LOCATION:Forest Park Country Club\, 1821 Mulberry Road\, Martinsville\, VA\, 24112\, United States
END:VEVENT
BEGIN:VEVENT
DTSTART;TZID=America/New_York:20290708T130000
DTEND;TZID=America/New_York:20290708T140000
DTSTAMP:20260425T091402
CREATED:20260419T004624Z
LAST-MODIFIED:20260419T004624Z
UID:10000434-1878210000-1878213600@forestparkcc.org
SUMMARY:YOGA with Melissa Sundays 1-2 PM
DESCRIPTION:In the Ballroom upstairs.
URL:https://forestparkcc.org/event/yoga-with-melissa-sundays-1-2-pm/2029-07-08/
LOCATION:Forest Park Country Club\, 1821 Mulberry Road\, Martinsville\, VA\, 24112\, United States
END:VEVENT
BEGIN:VEVENT
DTSTART;TZID=America/New_York:20290712T190000
DTEND;TZID=America/New_York:20290712T210000
DTSTAMP:20260425T091402
CREATED:20260419T004009Z
LAST-MODIFIED:20260419T004009Z
UID:10000218-1878577200-1878584400@forestparkcc.org
SUMMARY:FPCC Trivia Night 7- 9 PM
DESCRIPTION:
URL:https://forestparkcc.org/event/fpcc-trivia-night-7-9-pm/2029-07-12/
LOCATION:Forest Park Country Club\, 1821 Mulberry Road\, Martinsville\, VA\, 24112\, United States
END:VEVENT
BEGIN:VEVENT
DTSTART;TZID=America/New_York:20290715T130000
DTEND;TZID=America/New_York:20290715T140000
DTSTAMP:20260425T091402
CREATED:20260419T004624Z
LAST-MODIFIED:20260419T004624Z
UID:10000435-1878814800-1878818400@forestparkcc.org
SUMMARY:YOGA with Melissa Sundays 1-2 PM
DESCRIPTION:In the Ballroom upstairs.
URL:https://forestparkcc.org/event/yoga-with-melissa-sundays-1-2-pm/2029-07-15/
LOCATION:Forest Park Country Club\, 1821 Mulberry Road\, Martinsville\, VA\, 24112\, United States
END:VEVENT
BEGIN:VEVENT
DTSTART;TZID=America/New_York:20290722T130000
DTEND;TZID=America/New_York:20290722T140000
DTSTAMP:20260425T091402
CREATED:20260419T004624Z
LAST-MODIFIED:20260419T004624Z
UID:10000436-1879419600-1879423200@forestparkcc.org
SUMMARY:YOGA with Melissa Sundays 1-2 PM
DESCRIPTION:In the Ballroom upstairs.
URL:https://forestparkcc.org/event/yoga-with-melissa-sundays-1-2-pm/2029-07-22/
LOCATION:Forest Park Country Club\, 1821 Mulberry Road\, Martinsville\, VA\, 24112\, United States
END:VEVENT
BEGIN:VEVENT
DTSTART;TZID=America/New_York:20290726T190000
DTEND;TZID=America/New_York:20290726T210000
DTSTAMP:20260425T091402
CREATED:20260419T004009Z
LAST-MODIFIED:20260419T004009Z
UID:10000219-1879786800-1879794000@forestparkcc.org
SUMMARY:FPCC Trivia Night 7- 9 PM
DESCRIPTION:
URL:https://forestparkcc.org/event/fpcc-trivia-night-7-9-pm/2029-07-26/
LOCATION:Forest Park Country Club\, 1821 Mulberry Road\, Martinsville\, VA\, 24112\, United States
END:VEVENT
BEGIN:VEVENT
DTSTART;TZID=America/New_York:20290729T130000
DTEND;TZID=America/New_York:20290729T140000
DTSTAMP:20260425T091402
CREATED:20260419T004624Z
LAST-MODIFIED:20260419T004624Z
UID:10000437-1880024400-1880028000@forestparkcc.org
SUMMARY:YOGA with Melissa Sundays 1-2 PM
DESCRIPTION:In the Ballroom upstairs.
URL:https://forestparkcc.org/event/yoga-with-melissa-sundays-1-2-pm/2029-07-29/
LOCATION:Forest Park Country Club\, 1821 Mulberry Road\, Martinsville\, VA\, 24112\, United States
END:VEVENT
BEGIN:VEVENT
DTSTART;TZID=America/New_York:20290801T180000
DTEND;TZID=America/New_York:20290801T200000
DTSTAMP:20260425T091402
CREATED:20260419T003637Z
LAST-MODIFIED:20260419T003637Z
UID:10000113-1880301600-1880308800@forestparkcc.org
SUMMARY:FPCC Book Exchange First Wednesday of Month
DESCRIPTION:In the Grill Room.
URL:https://forestparkcc.org/event/fpcc-book-exchange-first-wednesday-of-month/2029-08-01/
LOCATION:Forest Park Country Club\, 1821 Mulberry Road\, Martinsville\, VA\, 24112\, United States
END:VEVENT
BEGIN:VEVENT
DTSTART;TZID=America/New_York:20290805T130000
DTEND;TZID=America/New_York:20290805T140000
DTSTAMP:20260425T091402
CREATED:20260419T004624Z
LAST-MODIFIED:20260419T004624Z
UID:10000438-1880629200-1880632800@forestparkcc.org
SUMMARY:YOGA with Melissa Sundays 1-2 PM
DESCRIPTION:In the Ballroom upstairs.
URL:https://forestparkcc.org/event/yoga-with-melissa-sundays-1-2-pm/2029-08-05/
LOCATION:Forest Park Country Club\, 1821 Mulberry Road\, Martinsville\, VA\, 24112\, United States
END:VEVENT
BEGIN:VEVENT
DTSTART;TZID=America/New_York:20290809T190000
DTEND;TZID=America/New_York:20290809T210000
DTSTAMP:20260425T091402
CREATED:20260419T004009Z
LAST-MODIFIED:20260419T004009Z
UID:10000220-1880996400-1881003600@forestparkcc.org
SUMMARY:FPCC Trivia Night 7- 9 PM
DESCRIPTION:
URL:https://forestparkcc.org/event/fpcc-trivia-night-7-9-pm/2029-08-09/
LOCATION:Forest Park Country Club\, 1821 Mulberry Road\, Martinsville\, VA\, 24112\, United States
END:VEVENT
BEGIN:VEVENT
DTSTART;TZID=America/New_York:20290812T130000
DTEND;TZID=America/New_York:20290812T140000
DTSTAMP:20260425T091402
CREATED:20260419T004624Z
LAST-MODIFIED:20260419T004624Z
UID:10000439-1881234000-1881237600@forestparkcc.org
SUMMARY:YOGA with Melissa Sundays 1-2 PM
DESCRIPTION:In the Ballroom upstairs.
URL:https://forestparkcc.org/event/yoga-with-melissa-sundays-1-2-pm/2029-08-12/
LOCATION:Forest Park Country Club\, 1821 Mulberry Road\, Martinsville\, VA\, 24112\, United States
END:VEVENT
BEGIN:VEVENT
DTSTART;TZID=America/New_York:20290819T130000
DTEND;TZID=America/New_York:20290819T140000
DTSTAMP:20260425T091402
CREATED:20260419T004624Z
LAST-MODIFIED:20260419T004624Z
UID:10000440-1881838800-1881842400@forestparkcc.org
SUMMARY:YOGA with Melissa Sundays 1-2 PM
DESCRIPTION:In the Ballroom upstairs.
URL:https://forestparkcc.org/event/yoga-with-melissa-sundays-1-2-pm/2029-08-19/
LOCATION:Forest Park Country Club\, 1821 Mulberry Road\, Martinsville\, VA\, 24112\, United States
END:VEVENT
BEGIN:VEVENT
DTSTART;TZID=America/New_York:20290823T190000
DTEND;TZID=America/New_York:20290823T210000
DTSTAMP:20260425T091402
CREATED:20260419T004009Z
LAST-MODIFIED:20260419T004009Z
UID:10000221-1882206000-1882213200@forestparkcc.org
SUMMARY:FPCC Trivia Night 7- 9 PM
DESCRIPTION:
URL:https://forestparkcc.org/event/fpcc-trivia-night-7-9-pm/2029-08-23/
LOCATION:Forest Park Country Club\, 1821 Mulberry Road\, Martinsville\, VA\, 24112\, United States
END:VEVENT
BEGIN:VEVENT
DTSTART;TZID=America/New_York:20290826T130000
DTEND;TZID=America/New_York:20290826T140000
DTSTAMP:20260425T091402
CREATED:20260419T004624Z
LAST-MODIFIED:20260419T004624Z
UID:10000441-1882443600-1882447200@forestparkcc.org
SUMMARY:YOGA with Melissa Sundays 1-2 PM
DESCRIPTION:In the Ballroom upstairs.
URL:https://forestparkcc.org/event/yoga-with-melissa-sundays-1-2-pm/2029-08-26/
LOCATION:Forest Park Country Club\, 1821 Mulberry Road\, Martinsville\, VA\, 24112\, United States
END:VEVENT
BEGIN:VEVENT
DTSTART;TZID=America/New_York:20290902T130000
DTEND;TZID=America/New_York:20290902T140000
DTSTAMP:20260425T091402
CREATED:20260419T004624Z
LAST-MODIFIED:20260419T004624Z
UID:10000442-1883048400-1883052000@forestparkcc.org
SUMMARY:YOGA with Melissa Sundays 1-2 PM
DESCRIPTION:In the Ballroom upstairs.
URL:https://forestparkcc.org/event/yoga-with-melissa-sundays-1-2-pm/2029-09-02/
LOCATION:Forest Park Country Club\, 1821 Mulberry Road\, Martinsville\, VA\, 24112\, United States
END:VEVENT
END:VCALENDAR