BEGIN:VCALENDAR
VERSION:2.0
PRODID:-//Forest Park Country Club | &quot;The Park&quot; - ECPv6.15.20//NONSGML v1.0//EN
CALSCALE:GREGORIAN
METHOD:PUBLISH
X-WR-CALNAME:Forest Park Country Club | &quot;The Park&quot;
X-ORIGINAL-URL:https://forestparkcc.org
X-WR-CALDESC:Events for Forest Park Country Club | &quot;The Park&quot;
REFRESH-INTERVAL;VALUE=DURATION:PT1H
X-Robots-Tag:noindex
X-PUBLISHED-TTL:PT1H
BEGIN:VTIMEZONE
TZID:America/New_York
BEGIN:DAYLIGHT
TZOFFSETFROM:-0500
TZOFFSETTO:-0400
TZNAME:EDT
DTSTART:20280312T070000
END:DAYLIGHT
BEGIN:STANDARD
TZOFFSETFROM:-0400
TZOFFSETTO:-0500
TZNAME:EST
DTSTART:20281105T060000
END:STANDARD
BEGIN:DAYLIGHT
TZOFFSETFROM:-0500
TZOFFSETTO:-0400
TZNAME:EDT
DTSTART:20290311T070000
END:DAYLIGHT
BEGIN:STANDARD
TZOFFSETFROM:-0400
TZOFFSETTO:-0500
TZNAME:EST
DTSTART:20291104T060000
END:STANDARD
BEGIN:DAYLIGHT
TZOFFSETFROM:-0500
TZOFFSETTO:-0400
TZNAME:EDT
DTSTART:20300310T070000
END:DAYLIGHT
BEGIN:STANDARD
TZOFFSETFROM:-0400
TZOFFSETTO:-0500
TZNAME:EST
DTSTART:20301103T060000
END:STANDARD
BEGIN:DAYLIGHT
TZOFFSETFROM:-0500
TZOFFSETTO:-0400
TZNAME:EDT
DTSTART:20310309T070000
END:DAYLIGHT
BEGIN:STANDARD
TZOFFSETFROM:-0400
TZOFFSETTO:-0500
TZNAME:EST
DTSTART:20311102T060000
END:STANDARD
END:VTIMEZONE
BEGIN:VEVENT
DTSTART;TZID=America/New_York:20291202T130000
DTEND;TZID=America/New_York:20291202T140000
DTSTAMP:20260425T111656
CREATED:20260419T004624Z
LAST-MODIFIED:20260419T004624Z
UID:10000455-1890910800-1890914400@forestparkcc.org
SUMMARY:YOGA with Melissa Sundays 1-2 PM
DESCRIPTION:In the Ballroom upstairs.
URL:https://forestparkcc.org/event/yoga-with-melissa-sundays-1-2-pm/2029-12-02/
LOCATION:Forest Park Country Club\, 1821 Mulberry Road\, Martinsville\, VA\, 24112\, United States
END:VEVENT
BEGIN:VEVENT
DTSTART;TZID=America/New_York:20291205T180000
DTEND;TZID=America/New_York:20291205T200000
DTSTAMP:20260425T111656
CREATED:20260419T003637Z
LAST-MODIFIED:20260419T003637Z
UID:10000117-1891188000-1891195200@forestparkcc.org
SUMMARY:FPCC Book Exchange First Wednesday of Month
DESCRIPTION:In the Grill Room.
URL:https://forestparkcc.org/event/fpcc-book-exchange-first-wednesday-of-month/2029-12-05/
LOCATION:Forest Park Country Club\, 1821 Mulberry Road\, Martinsville\, VA\, 24112\, United States
END:VEVENT
BEGIN:VEVENT
DTSTART;TZID=America/New_York:20291209T130000
DTEND;TZID=America/New_York:20291209T140000
DTSTAMP:20260425T111656
CREATED:20260419T004624Z
LAST-MODIFIED:20260419T004624Z
UID:10000456-1891515600-1891519200@forestparkcc.org
SUMMARY:YOGA with Melissa Sundays 1-2 PM
DESCRIPTION:In the Ballroom upstairs.
URL:https://forestparkcc.org/event/yoga-with-melissa-sundays-1-2-pm/2029-12-09/
LOCATION:Forest Park Country Club\, 1821 Mulberry Road\, Martinsville\, VA\, 24112\, United States
END:VEVENT
BEGIN:VEVENT
DTSTART;TZID=America/New_York:20291213T190000
DTEND;TZID=America/New_York:20291213T210000
DTSTAMP:20260425T111656
CREATED:20260419T004009Z
LAST-MODIFIED:20260419T004009Z
UID:10000229-1891882800-1891890000@forestparkcc.org
SUMMARY:FPCC Trivia Night 7- 9 PM
DESCRIPTION:
URL:https://forestparkcc.org/event/fpcc-trivia-night-7-9-pm/2029-12-13/
LOCATION:Forest Park Country Club\, 1821 Mulberry Road\, Martinsville\, VA\, 24112\, United States
END:VEVENT
BEGIN:VEVENT
DTSTART;TZID=America/New_York:20291216T130000
DTEND;TZID=America/New_York:20291216T140000
DTSTAMP:20260425T111656
CREATED:20260419T004624Z
LAST-MODIFIED:20260419T004624Z
UID:10000457-1892120400-1892124000@forestparkcc.org
SUMMARY:YOGA with Melissa Sundays 1-2 PM
DESCRIPTION:In the Ballroom upstairs.
URL:https://forestparkcc.org/event/yoga-with-melissa-sundays-1-2-pm/2029-12-16/
LOCATION:Forest Park Country Club\, 1821 Mulberry Road\, Martinsville\, VA\, 24112\, United States
END:VEVENT
BEGIN:VEVENT
DTSTART;TZID=America/New_York:20291223T130000
DTEND;TZID=America/New_York:20291223T140000
DTSTAMP:20260425T111656
CREATED:20260419T004624Z
LAST-MODIFIED:20260419T004624Z
UID:10000458-1892725200-1892728800@forestparkcc.org
SUMMARY:YOGA with Melissa Sundays 1-2 PM
DESCRIPTION:In the Ballroom upstairs.
URL:https://forestparkcc.org/event/yoga-with-melissa-sundays-1-2-pm/2029-12-23/
LOCATION:Forest Park Country Club\, 1821 Mulberry Road\, Martinsville\, VA\, 24112\, United States
END:VEVENT
BEGIN:VEVENT
DTSTART;TZID=America/New_York:20291227T190000
DTEND;TZID=America/New_York:20291227T210000
DTSTAMP:20260425T111656
CREATED:20260419T004009Z
LAST-MODIFIED:20260419T004009Z
UID:10000230-1893092400-1893099600@forestparkcc.org
SUMMARY:FPCC Trivia Night 7- 9 PM
DESCRIPTION:
URL:https://forestparkcc.org/event/fpcc-trivia-night-7-9-pm/2029-12-27/
LOCATION:Forest Park Country Club\, 1821 Mulberry Road\, Martinsville\, VA\, 24112\, United States
END:VEVENT
BEGIN:VEVENT
DTSTART;TZID=America/New_York:20291230T130000
DTEND;TZID=America/New_York:20291230T140000
DTSTAMP:20260425T111656
CREATED:20260419T004624Z
LAST-MODIFIED:20260419T004624Z
UID:10000459-1893330000-1893333600@forestparkcc.org
SUMMARY:YOGA with Melissa Sundays 1-2 PM
DESCRIPTION:In the Ballroom upstairs.
URL:https://forestparkcc.org/event/yoga-with-melissa-sundays-1-2-pm/2029-12-30/
LOCATION:Forest Park Country Club\, 1821 Mulberry Road\, Martinsville\, VA\, 24112\, United States
END:VEVENT
BEGIN:VEVENT
DTSTART;TZID=America/New_York:20300102T180000
DTEND;TZID=America/New_York:20300102T200000
DTSTAMP:20260425T111656
CREATED:20260419T003637Z
LAST-MODIFIED:20260419T003637Z
UID:10000118-1893607200-1893614400@forestparkcc.org
SUMMARY:FPCC Book Exchange First Wednesday of Month
DESCRIPTION:In the Grill Room.
URL:https://forestparkcc.org/event/fpcc-book-exchange-first-wednesday-of-month/2030-01-02/
LOCATION:Forest Park Country Club\, 1821 Mulberry Road\, Martinsville\, VA\, 24112\, United States
END:VEVENT
BEGIN:VEVENT
DTSTART;TZID=America/New_York:20300106T130000
DTEND;TZID=America/New_York:20300106T140000
DTSTAMP:20260425T111656
CREATED:20260419T004624Z
LAST-MODIFIED:20260419T004624Z
UID:10000460-1893934800-1893938400@forestparkcc.org
SUMMARY:YOGA with Melissa Sundays 1-2 PM
DESCRIPTION:In the Ballroom upstairs.
URL:https://forestparkcc.org/event/yoga-with-melissa-sundays-1-2-pm/2030-01-06/
LOCATION:Forest Park Country Club\, 1821 Mulberry Road\, Martinsville\, VA\, 24112\, United States
END:VEVENT
BEGIN:VEVENT
DTSTART;TZID=America/New_York:20300110T190000
DTEND;TZID=America/New_York:20300110T210000
DTSTAMP:20260425T111656
CREATED:20260419T004009Z
LAST-MODIFIED:20260419T004009Z
UID:10000231-1894302000-1894309200@forestparkcc.org
SUMMARY:FPCC Trivia Night 7- 9 PM
DESCRIPTION:
URL:https://forestparkcc.org/event/fpcc-trivia-night-7-9-pm/2030-01-10/
LOCATION:Forest Park Country Club\, 1821 Mulberry Road\, Martinsville\, VA\, 24112\, United States
END:VEVENT
BEGIN:VEVENT
DTSTART;TZID=America/New_York:20300113T130000
DTEND;TZID=America/New_York:20300113T140000
DTSTAMP:20260425T111656
CREATED:20260419T004624Z
LAST-MODIFIED:20260419T004624Z
UID:10000461-1894539600-1894543200@forestparkcc.org
SUMMARY:YOGA with Melissa Sundays 1-2 PM
DESCRIPTION:In the Ballroom upstairs.
URL:https://forestparkcc.org/event/yoga-with-melissa-sundays-1-2-pm/2030-01-13/
LOCATION:Forest Park Country Club\, 1821 Mulberry Road\, Martinsville\, VA\, 24112\, United States
END:VEVENT
BEGIN:VEVENT
DTSTART;TZID=America/New_York:20300120T130000
DTEND;TZID=America/New_York:20300120T140000
DTSTAMP:20260425T111656
CREATED:20260419T004624Z
LAST-MODIFIED:20260419T004624Z
UID:10000462-1895144400-1895148000@forestparkcc.org
SUMMARY:YOGA with Melissa Sundays 1-2 PM
DESCRIPTION:In the Ballroom upstairs.
URL:https://forestparkcc.org/event/yoga-with-melissa-sundays-1-2-pm/2030-01-20/
LOCATION:Forest Park Country Club\, 1821 Mulberry Road\, Martinsville\, VA\, 24112\, United States
END:VEVENT
BEGIN:VEVENT
DTSTART;TZID=America/New_York:20300124T190000
DTEND;TZID=America/New_York:20300124T210000
DTSTAMP:20260425T111656
CREATED:20260419T004009Z
LAST-MODIFIED:20260419T004009Z
UID:10000232-1895511600-1895518800@forestparkcc.org
SUMMARY:FPCC Trivia Night 7- 9 PM
DESCRIPTION:
URL:https://forestparkcc.org/event/fpcc-trivia-night-7-9-pm/2030-01-24/
LOCATION:Forest Park Country Club\, 1821 Mulberry Road\, Martinsville\, VA\, 24112\, United States
END:VEVENT
BEGIN:VEVENT
DTSTART;TZID=America/New_York:20300127T130000
DTEND;TZID=America/New_York:20300127T140000
DTSTAMP:20260425T111656
CREATED:20260419T004624Z
LAST-MODIFIED:20260419T004624Z
UID:10000463-1895749200-1895752800@forestparkcc.org
SUMMARY:YOGA with Melissa Sundays 1-2 PM
DESCRIPTION:In the Ballroom upstairs.
URL:https://forestparkcc.org/event/yoga-with-melissa-sundays-1-2-pm/2030-01-27/
LOCATION:Forest Park Country Club\, 1821 Mulberry Road\, Martinsville\, VA\, 24112\, United States
END:VEVENT
BEGIN:VEVENT
DTSTART;TZID=America/New_York:20300203T130000
DTEND;TZID=America/New_York:20300203T140000
DTSTAMP:20260425T111656
CREATED:20260419T004624Z
LAST-MODIFIED:20260419T004624Z
UID:10000464-1896354000-1896357600@forestparkcc.org
SUMMARY:YOGA with Melissa Sundays 1-2 PM
DESCRIPTION:In the Ballroom upstairs.
URL:https://forestparkcc.org/event/yoga-with-melissa-sundays-1-2-pm/2030-02-03/
LOCATION:Forest Park Country Club\, 1821 Mulberry Road\, Martinsville\, VA\, 24112\, United States
END:VEVENT
BEGIN:VEVENT
DTSTART;TZID=America/New_York:20300206T180000
DTEND;TZID=America/New_York:20300206T200000
DTSTAMP:20260425T111656
CREATED:20260419T003637Z
LAST-MODIFIED:20260419T003637Z
UID:10000119-1896631200-1896638400@forestparkcc.org
SUMMARY:FPCC Book Exchange First Wednesday of Month
DESCRIPTION:In the Grill Room.
URL:https://forestparkcc.org/event/fpcc-book-exchange-first-wednesday-of-month/2030-02-06/
LOCATION:Forest Park Country Club\, 1821 Mulberry Road\, Martinsville\, VA\, 24112\, United States
END:VEVENT
BEGIN:VEVENT
DTSTART;TZID=America/New_York:20300207T190000
DTEND;TZID=America/New_York:20300207T210000
DTSTAMP:20260425T111656
CREATED:20260419T004009Z
LAST-MODIFIED:20260419T004009Z
UID:10000233-1896721200-1896728400@forestparkcc.org
SUMMARY:FPCC Trivia Night 7- 9 PM
DESCRIPTION:
URL:https://forestparkcc.org/event/fpcc-trivia-night-7-9-pm/2030-02-07/
LOCATION:Forest Park Country Club\, 1821 Mulberry Road\, Martinsville\, VA\, 24112\, United States
END:VEVENT
BEGIN:VEVENT
DTSTART;TZID=America/New_York:20300210T130000
DTEND;TZID=America/New_York:20300210T140000
DTSTAMP:20260425T111656
CREATED:20260419T004624Z
LAST-MODIFIED:20260419T004624Z
UID:10000465-1896958800-1896962400@forestparkcc.org
SUMMARY:YOGA with Melissa Sundays 1-2 PM
DESCRIPTION:In the Ballroom upstairs.
URL:https://forestparkcc.org/event/yoga-with-melissa-sundays-1-2-pm/2030-02-10/
LOCATION:Forest Park Country Club\, 1821 Mulberry Road\, Martinsville\, VA\, 24112\, United States
END:VEVENT
BEGIN:VEVENT
DTSTART;TZID=America/New_York:20300217T130000
DTEND;TZID=America/New_York:20300217T140000
DTSTAMP:20260425T111656
CREATED:20260419T004624Z
LAST-MODIFIED:20260419T004624Z
UID:10000466-1897563600-1897567200@forestparkcc.org
SUMMARY:YOGA with Melissa Sundays 1-2 PM
DESCRIPTION:In the Ballroom upstairs.
URL:https://forestparkcc.org/event/yoga-with-melissa-sundays-1-2-pm/2030-02-17/
LOCATION:Forest Park Country Club\, 1821 Mulberry Road\, Martinsville\, VA\, 24112\, United States
END:VEVENT
BEGIN:VEVENT
DTSTART;TZID=America/New_York:20300221T190000
DTEND;TZID=America/New_York:20300221T210000
DTSTAMP:20260425T111656
CREATED:20260419T004009Z
LAST-MODIFIED:20260419T004009Z
UID:10000234-1897930800-1897938000@forestparkcc.org
SUMMARY:FPCC Trivia Night 7- 9 PM
DESCRIPTION:
URL:https://forestparkcc.org/event/fpcc-trivia-night-7-9-pm/2030-02-21/
LOCATION:Forest Park Country Club\, 1821 Mulberry Road\, Martinsville\, VA\, 24112\, United States
END:VEVENT
BEGIN:VEVENT
DTSTART;TZID=America/New_York:20300224T130000
DTEND;TZID=America/New_York:20300224T140000
DTSTAMP:20260425T111656
CREATED:20260419T004624Z
LAST-MODIFIED:20260419T004624Z
UID:10000467-1898168400-1898172000@forestparkcc.org
SUMMARY:YOGA with Melissa Sundays 1-2 PM
DESCRIPTION:In the Ballroom upstairs.
URL:https://forestparkcc.org/event/yoga-with-melissa-sundays-1-2-pm/2030-02-24/
LOCATION:Forest Park Country Club\, 1821 Mulberry Road\, Martinsville\, VA\, 24112\, United States
END:VEVENT
BEGIN:VEVENT
DTSTART;TZID=America/New_York:20300303T130000
DTEND;TZID=America/New_York:20300303T140000
DTSTAMP:20260425T111656
CREATED:20260419T004624Z
LAST-MODIFIED:20260419T004624Z
UID:10000468-1898773200-1898776800@forestparkcc.org
SUMMARY:YOGA with Melissa Sundays 1-2 PM
DESCRIPTION:In the Ballroom upstairs.
URL:https://forestparkcc.org/event/yoga-with-melissa-sundays-1-2-pm/2030-03-03/
LOCATION:Forest Park Country Club\, 1821 Mulberry Road\, Martinsville\, VA\, 24112\, United States
END:VEVENT
BEGIN:VEVENT
DTSTART;TZID=America/New_York:20300306T180000
DTEND;TZID=America/New_York:20300306T200000
DTSTAMP:20260425T111656
CREATED:20260419T003637Z
LAST-MODIFIED:20260419T003637Z
UID:10000120-1899050400-1899057600@forestparkcc.org
SUMMARY:FPCC Book Exchange First Wednesday of Month
DESCRIPTION:In the Grill Room.
URL:https://forestparkcc.org/event/fpcc-book-exchange-first-wednesday-of-month/2030-03-06/
LOCATION:Forest Park Country Club\, 1821 Mulberry Road\, Martinsville\, VA\, 24112\, United States
END:VEVENT
BEGIN:VEVENT
DTSTART;TZID=America/New_York:20300307T190000
DTEND;TZID=America/New_York:20300307T210000
DTSTAMP:20260425T111656
CREATED:20260419T004009Z
LAST-MODIFIED:20260419T004009Z
UID:10000235-1899140400-1899147600@forestparkcc.org
SUMMARY:FPCC Trivia Night 7- 9 PM
DESCRIPTION:
URL:https://forestparkcc.org/event/fpcc-trivia-night-7-9-pm/2030-03-07/
LOCATION:Forest Park Country Club\, 1821 Mulberry Road\, Martinsville\, VA\, 24112\, United States
END:VEVENT
BEGIN:VEVENT
DTSTART;TZID=America/New_York:20300310T130000
DTEND;TZID=America/New_York:20300310T140000
DTSTAMP:20260425T111656
CREATED:20260419T004624Z
LAST-MODIFIED:20260419T004624Z
UID:10000469-1899378000-1899381600@forestparkcc.org
SUMMARY:YOGA with Melissa Sundays 1-2 PM
DESCRIPTION:In the Ballroom upstairs.
URL:https://forestparkcc.org/event/yoga-with-melissa-sundays-1-2-pm/2030-03-10/
LOCATION:Forest Park Country Club\, 1821 Mulberry Road\, Martinsville\, VA\, 24112\, United States
END:VEVENT
BEGIN:VEVENT
DTSTART;TZID=America/New_York:20300317T130000
DTEND;TZID=America/New_York:20300317T140000
DTSTAMP:20260425T111656
CREATED:20260419T004624Z
LAST-MODIFIED:20260419T004624Z
UID:10000470-1899982800-1899986400@forestparkcc.org
SUMMARY:YOGA with Melissa Sundays 1-2 PM
DESCRIPTION:In the Ballroom upstairs.
URL:https://forestparkcc.org/event/yoga-with-melissa-sundays-1-2-pm/2030-03-17/
LOCATION:Forest Park Country Club\, 1821 Mulberry Road\, Martinsville\, VA\, 24112\, United States
END:VEVENT
BEGIN:VEVENT
DTSTART;TZID=America/New_York:20300321T190000
DTEND;TZID=America/New_York:20300321T210000
DTSTAMP:20260425T111656
CREATED:20260419T004009Z
LAST-MODIFIED:20260419T004009Z
UID:10000236-1900350000-1900357200@forestparkcc.org
SUMMARY:FPCC Trivia Night 7- 9 PM
DESCRIPTION:
URL:https://forestparkcc.org/event/fpcc-trivia-night-7-9-pm/2030-03-21/
LOCATION:Forest Park Country Club\, 1821 Mulberry Road\, Martinsville\, VA\, 24112\, United States
END:VEVENT
BEGIN:VEVENT
DTSTART;TZID=America/New_York:20300324T130000
DTEND;TZID=America/New_York:20300324T140000
DTSTAMP:20260425T111656
CREATED:20260419T004624Z
LAST-MODIFIED:20260419T004624Z
UID:10000471-1900587600-1900591200@forestparkcc.org
SUMMARY:YOGA with Melissa Sundays 1-2 PM
DESCRIPTION:In the Ballroom upstairs.
URL:https://forestparkcc.org/event/yoga-with-melissa-sundays-1-2-pm/2030-03-24/
LOCATION:Forest Park Country Club\, 1821 Mulberry Road\, Martinsville\, VA\, 24112\, United States
END:VEVENT
BEGIN:VEVENT
DTSTART;TZID=America/New_York:20300331T130000
DTEND;TZID=America/New_York:20300331T140000
DTSTAMP:20260425T111656
CREATED:20260419T004624Z
LAST-MODIFIED:20260419T004624Z
UID:10000472-1901192400-1901196000@forestparkcc.org
SUMMARY:YOGA with Melissa Sundays 1-2 PM
DESCRIPTION:In the Ballroom upstairs.
URL:https://forestparkcc.org/event/yoga-with-melissa-sundays-1-2-pm/2030-03-31/
LOCATION:Forest Park Country Club\, 1821 Mulberry Road\, Martinsville\, VA\, 24112\, United States
END:VEVENT
END:VCALENDAR