BEGIN:VCALENDAR
VERSION:2.0
PRODID:-//Forest Park Country Club | &quot;The Park&quot; - ECPv6.15.20//NONSGML v1.0//EN
CALSCALE:GREGORIAN
METHOD:PUBLISH
X-ORIGINAL-URL:https://forestparkcc.org
X-WR-CALDESC:Events for Forest Park Country Club | &quot;The Park&quot;
REFRESH-INTERVAL;VALUE=DURATION:PT1H
X-Robots-Tag:noindex
X-PUBLISHED-TTL:PT1H
BEGIN:VTIMEZONE
TZID:America/New_York
BEGIN:DAYLIGHT
TZOFFSETFROM:-0500
TZOFFSETTO:-0400
TZNAME:EDT
DTSTART:20290311T070000
END:DAYLIGHT
BEGIN:STANDARD
TZOFFSETFROM:-0400
TZOFFSETTO:-0500
TZNAME:EST
DTSTART:20291104T060000
END:STANDARD
BEGIN:DAYLIGHT
TZOFFSETFROM:-0500
TZOFFSETTO:-0400
TZNAME:EDT
DTSTART:20300310T070000
END:DAYLIGHT
BEGIN:STANDARD
TZOFFSETFROM:-0400
TZOFFSETTO:-0500
TZNAME:EST
DTSTART:20301103T060000
END:STANDARD
BEGIN:DAYLIGHT
TZOFFSETFROM:-0500
TZOFFSETTO:-0400
TZNAME:EDT
DTSTART:20310309T070000
END:DAYLIGHT
BEGIN:STANDARD
TZOFFSETFROM:-0400
TZOFFSETTO:-0500
TZNAME:EST
DTSTART:20311102T060000
END:STANDARD
END:VTIMEZONE
BEGIN:VEVENT
DTSTART;TZID=America/New_York:20300904T180000
DTEND;TZID=America/New_York:20300904T200000
DTSTAMP:20260425T104036
CREATED:20260419T003637Z
LAST-MODIFIED:20260419T003637Z
UID:10000126-1914775200-1914782400@forestparkcc.org
SUMMARY:FPCC Book Exchange First Wednesday of Month
DESCRIPTION:In the Grill Room.
URL:https://forestparkcc.org/event/fpcc-book-exchange-first-wednesday-of-month/2030-09-04/
LOCATION:Forest Park Country Club\, 1821 Mulberry Road\, Martinsville\, VA\, 24112\, United States
END:VEVENT
BEGIN:VEVENT
DTSTART;TZID=America/New_York:20300905T190000
DTEND;TZID=America/New_York:20300905T210000
DTSTAMP:20260425T104036
CREATED:20260419T004009Z
LAST-MODIFIED:20260419T004009Z
UID:10000248-1914865200-1914872400@forestparkcc.org
SUMMARY:FPCC Trivia Night 7- 9 PM
DESCRIPTION:
URL:https://forestparkcc.org/event/fpcc-trivia-night-7-9-pm/2030-09-05/
LOCATION:Forest Park Country Club\, 1821 Mulberry Road\, Martinsville\, VA\, 24112\, United States
END:VEVENT
BEGIN:VEVENT
DTSTART;TZID=America/New_York:20300908T130000
DTEND;TZID=America/New_York:20300908T140000
DTSTAMP:20260425T104036
CREATED:20260419T004624Z
LAST-MODIFIED:20260419T004624Z
UID:10000495-1915102800-1915106400@forestparkcc.org
SUMMARY:YOGA with Melissa Sundays 1-2 PM
DESCRIPTION:In the Ballroom upstairs.
URL:https://forestparkcc.org/event/yoga-with-melissa-sundays-1-2-pm/2030-09-08/
LOCATION:Forest Park Country Club\, 1821 Mulberry Road\, Martinsville\, VA\, 24112\, United States
END:VEVENT
BEGIN:VEVENT
DTSTART;TZID=America/New_York:20300915T130000
DTEND;TZID=America/New_York:20300915T140000
DTSTAMP:20260425T104036
CREATED:20260419T004624Z
LAST-MODIFIED:20260419T004624Z
UID:10000496-1915707600-1915711200@forestparkcc.org
SUMMARY:YOGA with Melissa Sundays 1-2 PM
DESCRIPTION:In the Ballroom upstairs.
URL:https://forestparkcc.org/event/yoga-with-melissa-sundays-1-2-pm/2030-09-15/
LOCATION:Forest Park Country Club\, 1821 Mulberry Road\, Martinsville\, VA\, 24112\, United States
END:VEVENT
BEGIN:VEVENT
DTSTART;TZID=America/New_York:20300919T190000
DTEND;TZID=America/New_York:20300919T210000
DTSTAMP:20260425T104036
CREATED:20260419T004009Z
LAST-MODIFIED:20260419T004009Z
UID:10000249-1916074800-1916082000@forestparkcc.org
SUMMARY:FPCC Trivia Night 7- 9 PM
DESCRIPTION:
URL:https://forestparkcc.org/event/fpcc-trivia-night-7-9-pm/2030-09-19/
LOCATION:Forest Park Country Club\, 1821 Mulberry Road\, Martinsville\, VA\, 24112\, United States
END:VEVENT
BEGIN:VEVENT
DTSTART;TZID=America/New_York:20300922T130000
DTEND;TZID=America/New_York:20300922T140000
DTSTAMP:20260425T104036
CREATED:20260419T004624Z
LAST-MODIFIED:20260419T004624Z
UID:10000497-1916312400-1916316000@forestparkcc.org
SUMMARY:YOGA with Melissa Sundays 1-2 PM
DESCRIPTION:In the Ballroom upstairs.
URL:https://forestparkcc.org/event/yoga-with-melissa-sundays-1-2-pm/2030-09-22/
LOCATION:Forest Park Country Club\, 1821 Mulberry Road\, Martinsville\, VA\, 24112\, United States
END:VEVENT
BEGIN:VEVENT
DTSTART;TZID=America/New_York:20300929T130000
DTEND;TZID=America/New_York:20300929T140000
DTSTAMP:20260425T104036
CREATED:20260419T004624Z
LAST-MODIFIED:20260419T004624Z
UID:10000498-1916917200-1916920800@forestparkcc.org
SUMMARY:YOGA with Melissa Sundays 1-2 PM
DESCRIPTION:In the Ballroom upstairs.
URL:https://forestparkcc.org/event/yoga-with-melissa-sundays-1-2-pm/2030-09-29/
LOCATION:Forest Park Country Club\, 1821 Mulberry Road\, Martinsville\, VA\, 24112\, United States
END:VEVENT
BEGIN:VEVENT
DTSTART;TZID=America/New_York:20301002T180000
DTEND;TZID=America/New_York:20301002T200000
DTSTAMP:20260425T104036
CREATED:20260419T003637Z
LAST-MODIFIED:20260419T003637Z
UID:10000127-1917194400-1917201600@forestparkcc.org
SUMMARY:FPCC Book Exchange First Wednesday of Month
DESCRIPTION:In the Grill Room.
URL:https://forestparkcc.org/event/fpcc-book-exchange-first-wednesday-of-month/2030-10-02/
LOCATION:Forest Park Country Club\, 1821 Mulberry Road\, Martinsville\, VA\, 24112\, United States
END:VEVENT
BEGIN:VEVENT
DTSTART;TZID=America/New_York:20301003T190000
DTEND;TZID=America/New_York:20301003T210000
DTSTAMP:20260425T104036
CREATED:20260419T004009Z
LAST-MODIFIED:20260419T004009Z
UID:10000250-1917284400-1917291600@forestparkcc.org
SUMMARY:FPCC Trivia Night 7- 9 PM
DESCRIPTION:
URL:https://forestparkcc.org/event/fpcc-trivia-night-7-9-pm/2030-10-03/
LOCATION:Forest Park Country Club\, 1821 Mulberry Road\, Martinsville\, VA\, 24112\, United States
END:VEVENT
BEGIN:VEVENT
DTSTART;TZID=America/New_York:20301006T130000
DTEND;TZID=America/New_York:20301006T140000
DTSTAMP:20260425T104036
CREATED:20260419T004624Z
LAST-MODIFIED:20260419T004624Z
UID:10000499-1917522000-1917525600@forestparkcc.org
SUMMARY:YOGA with Melissa Sundays 1-2 PM
DESCRIPTION:In the Ballroom upstairs.
URL:https://forestparkcc.org/event/yoga-with-melissa-sundays-1-2-pm/2030-10-06/
LOCATION:Forest Park Country Club\, 1821 Mulberry Road\, Martinsville\, VA\, 24112\, United States
END:VEVENT
BEGIN:VEVENT
DTSTART;TZID=America/New_York:20301013T130000
DTEND;TZID=America/New_York:20301013T140000
DTSTAMP:20260425T104036
CREATED:20260419T004624Z
LAST-MODIFIED:20260419T004624Z
UID:10000500-1918126800-1918130400@forestparkcc.org
SUMMARY:YOGA with Melissa Sundays 1-2 PM
DESCRIPTION:In the Ballroom upstairs.
URL:https://forestparkcc.org/event/yoga-with-melissa-sundays-1-2-pm/2030-10-13/
LOCATION:Forest Park Country Club\, 1821 Mulberry Road\, Martinsville\, VA\, 24112\, United States
END:VEVENT
BEGIN:VEVENT
DTSTART;TZID=America/New_York:20301017T190000
DTEND;TZID=America/New_York:20301017T210000
DTSTAMP:20260425T104036
CREATED:20260419T004009Z
LAST-MODIFIED:20260419T004009Z
UID:10000251-1918494000-1918501200@forestparkcc.org
SUMMARY:FPCC Trivia Night 7- 9 PM
DESCRIPTION:
URL:https://forestparkcc.org/event/fpcc-trivia-night-7-9-pm/2030-10-17/
LOCATION:Forest Park Country Club\, 1821 Mulberry Road\, Martinsville\, VA\, 24112\, United States
END:VEVENT
BEGIN:VEVENT
DTSTART;TZID=America/New_York:20301020T130000
DTEND;TZID=America/New_York:20301020T140000
DTSTAMP:20260425T104036
CREATED:20260419T004624Z
LAST-MODIFIED:20260419T004624Z
UID:10000501-1918731600-1918735200@forestparkcc.org
SUMMARY:YOGA with Melissa Sundays 1-2 PM
DESCRIPTION:In the Ballroom upstairs.
URL:https://forestparkcc.org/event/yoga-with-melissa-sundays-1-2-pm/2030-10-20/
LOCATION:Forest Park Country Club\, 1821 Mulberry Road\, Martinsville\, VA\, 24112\, United States
END:VEVENT
BEGIN:VEVENT
DTSTART;TZID=America/New_York:20301027T130000
DTEND;TZID=America/New_York:20301027T140000
DTSTAMP:20260425T104036
CREATED:20260419T004624Z
LAST-MODIFIED:20260419T004624Z
UID:10000502-1919336400-1919340000@forestparkcc.org
SUMMARY:YOGA with Melissa Sundays 1-2 PM
DESCRIPTION:In the Ballroom upstairs.
URL:https://forestparkcc.org/event/yoga-with-melissa-sundays-1-2-pm/2030-10-27/
LOCATION:Forest Park Country Club\, 1821 Mulberry Road\, Martinsville\, VA\, 24112\, United States
END:VEVENT
BEGIN:VEVENT
DTSTART;TZID=America/New_York:20301031T190000
DTEND;TZID=America/New_York:20301031T210000
DTSTAMP:20260425T104036
CREATED:20260419T004009Z
LAST-MODIFIED:20260419T004009Z
UID:10000252-1919703600-1919710800@forestparkcc.org
SUMMARY:FPCC Trivia Night 7- 9 PM
DESCRIPTION:
URL:https://forestparkcc.org/event/fpcc-trivia-night-7-9-pm/2030-10-31/
LOCATION:Forest Park Country Club\, 1821 Mulberry Road\, Martinsville\, VA\, 24112\, United States
END:VEVENT
BEGIN:VEVENT
DTSTART;TZID=America/New_York:20301103T130000
DTEND;TZID=America/New_York:20301103T140000
DTSTAMP:20260425T104036
CREATED:20260419T004624Z
LAST-MODIFIED:20260419T004624Z
UID:10000503-1919941200-1919944800@forestparkcc.org
SUMMARY:YOGA with Melissa Sundays 1-2 PM
DESCRIPTION:In the Ballroom upstairs.
URL:https://forestparkcc.org/event/yoga-with-melissa-sundays-1-2-pm/2030-11-03/
LOCATION:Forest Park Country Club\, 1821 Mulberry Road\, Martinsville\, VA\, 24112\, United States
END:VEVENT
BEGIN:VEVENT
DTSTART;TZID=America/New_York:20301106T180000
DTEND;TZID=America/New_York:20301106T200000
DTSTAMP:20260425T104036
CREATED:20260419T003637Z
LAST-MODIFIED:20260419T003637Z
UID:10000128-1920218400-1920225600@forestparkcc.org
SUMMARY:FPCC Book Exchange First Wednesday of Month
DESCRIPTION:In the Grill Room.
URL:https://forestparkcc.org/event/fpcc-book-exchange-first-wednesday-of-month/2030-11-06/
LOCATION:Forest Park Country Club\, 1821 Mulberry Road\, Martinsville\, VA\, 24112\, United States
END:VEVENT
BEGIN:VEVENT
DTSTART;TZID=America/New_York:20301110T130000
DTEND;TZID=America/New_York:20301110T140000
DTSTAMP:20260425T104036
CREATED:20260419T004624Z
LAST-MODIFIED:20260419T004624Z
UID:10000504-1920546000-1920549600@forestparkcc.org
SUMMARY:YOGA with Melissa Sundays 1-2 PM
DESCRIPTION:In the Ballroom upstairs.
URL:https://forestparkcc.org/event/yoga-with-melissa-sundays-1-2-pm/2030-11-10/
LOCATION:Forest Park Country Club\, 1821 Mulberry Road\, Martinsville\, VA\, 24112\, United States
END:VEVENT
BEGIN:VEVENT
DTSTART;TZID=America/New_York:20301114T190000
DTEND;TZID=America/New_York:20301114T210000
DTSTAMP:20260425T104036
CREATED:20260419T004009Z
LAST-MODIFIED:20260419T004009Z
UID:10000253-1920913200-1920920400@forestparkcc.org
SUMMARY:FPCC Trivia Night 7- 9 PM
DESCRIPTION:
URL:https://forestparkcc.org/event/fpcc-trivia-night-7-9-pm/2030-11-14/
LOCATION:Forest Park Country Club\, 1821 Mulberry Road\, Martinsville\, VA\, 24112\, United States
END:VEVENT
BEGIN:VEVENT
DTSTART;TZID=America/New_York:20301117T130000
DTEND;TZID=America/New_York:20301117T140000
DTSTAMP:20260425T104036
CREATED:20260419T004624Z
LAST-MODIFIED:20260419T004624Z
UID:10000505-1921150800-1921154400@forestparkcc.org
SUMMARY:YOGA with Melissa Sundays 1-2 PM
DESCRIPTION:In the Ballroom upstairs.
URL:https://forestparkcc.org/event/yoga-with-melissa-sundays-1-2-pm/2030-11-17/
LOCATION:Forest Park Country Club\, 1821 Mulberry Road\, Martinsville\, VA\, 24112\, United States
END:VEVENT
BEGIN:VEVENT
DTSTART;TZID=America/New_York:20301124T130000
DTEND;TZID=America/New_York:20301124T140000
DTSTAMP:20260425T104036
CREATED:20260419T004624Z
LAST-MODIFIED:20260419T004624Z
UID:10000506-1921755600-1921759200@forestparkcc.org
SUMMARY:YOGA with Melissa Sundays 1-2 PM
DESCRIPTION:In the Ballroom upstairs.
URL:https://forestparkcc.org/event/yoga-with-melissa-sundays-1-2-pm/2030-11-24/
LOCATION:Forest Park Country Club\, 1821 Mulberry Road\, Martinsville\, VA\, 24112\, United States
END:VEVENT
BEGIN:VEVENT
DTSTART;TZID=America/New_York:20301128T190000
DTEND;TZID=America/New_York:20301128T210000
DTSTAMP:20260425T104036
CREATED:20260419T004009Z
LAST-MODIFIED:20260419T004009Z
UID:10000254-1922122800-1922130000@forestparkcc.org
SUMMARY:FPCC Trivia Night 7- 9 PM
DESCRIPTION:
URL:https://forestparkcc.org/event/fpcc-trivia-night-7-9-pm/2030-11-28/
LOCATION:Forest Park Country Club\, 1821 Mulberry Road\, Martinsville\, VA\, 24112\, United States
END:VEVENT
BEGIN:VEVENT
DTSTART;TZID=America/New_York:20301201T130000
DTEND;TZID=America/New_York:20301201T140000
DTSTAMP:20260425T104036
CREATED:20260419T004624Z
LAST-MODIFIED:20260419T004624Z
UID:10000507-1922360400-1922364000@forestparkcc.org
SUMMARY:YOGA with Melissa Sundays 1-2 PM
DESCRIPTION:In the Ballroom upstairs.
URL:https://forestparkcc.org/event/yoga-with-melissa-sundays-1-2-pm/2030-12-01/
LOCATION:Forest Park Country Club\, 1821 Mulberry Road\, Martinsville\, VA\, 24112\, United States
END:VEVENT
BEGIN:VEVENT
DTSTART;TZID=America/New_York:20301204T180000
DTEND;TZID=America/New_York:20301204T200000
DTSTAMP:20260425T104036
CREATED:20260419T003637Z
LAST-MODIFIED:20260419T003637Z
UID:10000129-1922637600-1922644800@forestparkcc.org
SUMMARY:FPCC Book Exchange First Wednesday of Month
DESCRIPTION:In the Grill Room.
URL:https://forestparkcc.org/event/fpcc-book-exchange-first-wednesday-of-month/2030-12-04/
LOCATION:Forest Park Country Club\, 1821 Mulberry Road\, Martinsville\, VA\, 24112\, United States
END:VEVENT
BEGIN:VEVENT
DTSTART;TZID=America/New_York:20301208T130000
DTEND;TZID=America/New_York:20301208T140000
DTSTAMP:20260425T104036
CREATED:20260419T004624Z
LAST-MODIFIED:20260419T004624Z
UID:10000508-1922965200-1922968800@forestparkcc.org
SUMMARY:YOGA with Melissa Sundays 1-2 PM
DESCRIPTION:In the Ballroom upstairs.
URL:https://forestparkcc.org/event/yoga-with-melissa-sundays-1-2-pm/2030-12-08/
LOCATION:Forest Park Country Club\, 1821 Mulberry Road\, Martinsville\, VA\, 24112\, United States
END:VEVENT
BEGIN:VEVENT
DTSTART;TZID=America/New_York:20301212T190000
DTEND;TZID=America/New_York:20301212T210000
DTSTAMP:20260425T104036
CREATED:20260419T004009Z
LAST-MODIFIED:20260419T004009Z
UID:10000255-1923332400-1923339600@forestparkcc.org
SUMMARY:FPCC Trivia Night 7- 9 PM
DESCRIPTION:
URL:https://forestparkcc.org/event/fpcc-trivia-night-7-9-pm/2030-12-12/
LOCATION:Forest Park Country Club\, 1821 Mulberry Road\, Martinsville\, VA\, 24112\, United States
END:VEVENT
BEGIN:VEVENT
DTSTART;TZID=America/New_York:20301215T130000
DTEND;TZID=America/New_York:20301215T140000
DTSTAMP:20260425T104036
CREATED:20260419T004624Z
LAST-MODIFIED:20260419T004624Z
UID:10000509-1923570000-1923573600@forestparkcc.org
SUMMARY:YOGA with Melissa Sundays 1-2 PM
DESCRIPTION:In the Ballroom upstairs.
URL:https://forestparkcc.org/event/yoga-with-melissa-sundays-1-2-pm/2030-12-15/
LOCATION:Forest Park Country Club\, 1821 Mulberry Road\, Martinsville\, VA\, 24112\, United States
END:VEVENT
BEGIN:VEVENT
DTSTART;TZID=America/New_York:20301222T130000
DTEND;TZID=America/New_York:20301222T140000
DTSTAMP:20260425T104036
CREATED:20260419T004624Z
LAST-MODIFIED:20260419T004624Z
UID:10000510-1924174800-1924178400@forestparkcc.org
SUMMARY:YOGA with Melissa Sundays 1-2 PM
DESCRIPTION:In the Ballroom upstairs.
URL:https://forestparkcc.org/event/yoga-with-melissa-sundays-1-2-pm/2030-12-22/
LOCATION:Forest Park Country Club\, 1821 Mulberry Road\, Martinsville\, VA\, 24112\, United States
END:VEVENT
BEGIN:VEVENT
DTSTART;TZID=America/New_York:20301226T190000
DTEND;TZID=America/New_York:20301226T210000
DTSTAMP:20260425T104036
CREATED:20260419T004009Z
LAST-MODIFIED:20260419T004009Z
UID:10000256-1924542000-1924549200@forestparkcc.org
SUMMARY:FPCC Trivia Night 7- 9 PM
DESCRIPTION:
URL:https://forestparkcc.org/event/fpcc-trivia-night-7-9-pm/2030-12-26/
LOCATION:Forest Park Country Club\, 1821 Mulberry Road\, Martinsville\, VA\, 24112\, United States
END:VEVENT
BEGIN:VEVENT
DTSTART;TZID=America/New_York:20301229T130000
DTEND;TZID=America/New_York:20301229T140000
DTSTAMP:20260425T104036
CREATED:20260419T004624Z
LAST-MODIFIED:20260419T004624Z
UID:10000511-1924779600-1924783200@forestparkcc.org
SUMMARY:YOGA with Melissa Sundays 1-2 PM
DESCRIPTION:In the Ballroom upstairs.
URL:https://forestparkcc.org/event/yoga-with-melissa-sundays-1-2-pm/2030-12-29/
LOCATION:Forest Park Country Club\, 1821 Mulberry Road\, Martinsville\, VA\, 24112\, United States
END:VEVENT
END:VCALENDAR