BEGIN:VCALENDAR
VERSION:2.0
PRODID:-//Forest Park Country Club | &quot;The Park&quot; - ECPv6.15.20//NONSGML v1.0//EN
CALSCALE:GREGORIAN
METHOD:PUBLISH
X-WR-CALNAME:Forest Park Country Club | &quot;The Park&quot;
X-ORIGINAL-URL:https://forestparkcc.org
X-WR-CALDESC:Events for Forest Park Country Club | &quot;The Park&quot;
REFRESH-INTERVAL;VALUE=DURATION:PT1H
X-Robots-Tag:noindex
X-PUBLISHED-TTL:PT1H
BEGIN:VTIMEZONE
TZID:America/New_York
BEGIN:DAYLIGHT
TZOFFSETFROM:-0500
TZOFFSETTO:-0400
TZNAME:EDT
DTSTART:20300310T070000
END:DAYLIGHT
BEGIN:STANDARD
TZOFFSETFROM:-0400
TZOFFSETTO:-0500
TZNAME:EST
DTSTART:20301103T060000
END:STANDARD
BEGIN:DAYLIGHT
TZOFFSETFROM:-0500
TZOFFSETTO:-0400
TZNAME:EDT
DTSTART:20310309T070000
END:DAYLIGHT
BEGIN:STANDARD
TZOFFSETFROM:-0400
TZOFFSETTO:-0500
TZNAME:EST
DTSTART:20311102T060000
END:STANDARD
BEGIN:DAYLIGHT
TZOFFSETFROM:-0500
TZOFFSETTO:-0400
TZNAME:EDT
DTSTART:20320314T070000
END:DAYLIGHT
BEGIN:STANDARD
TZOFFSETFROM:-0400
TZOFFSETTO:-0500
TZNAME:EST
DTSTART:20321107T060000
END:STANDARD
END:VTIMEZONE
BEGIN:VEVENT
DTSTART;TZID=America/New_York:20310209T130000
DTEND;TZID=America/New_York:20310209T140000
DTSTAMP:20260425T230937
CREATED:20260419T004624Z
LAST-MODIFIED:20260419T004624Z
UID:10000517-1928408400-1928412000@forestparkcc.org
SUMMARY:YOGA with Melissa Sundays 1-2 PM
DESCRIPTION:In the Ballroom upstairs.
URL:https://forestparkcc.org/event/yoga-with-melissa-sundays-1-2-pm/2031-02-09/
LOCATION:Forest Park Country Club\, 1821 Mulberry Road\, Martinsville\, VA\, 24112\, United States
END:VEVENT
BEGIN:VEVENT
DTSTART;TZID=America/New_York:20310216T130000
DTEND;TZID=America/New_York:20310216T140000
DTSTAMP:20260425T230937
CREATED:20260419T004624Z
LAST-MODIFIED:20260419T004624Z
UID:10000518-1929013200-1929016800@forestparkcc.org
SUMMARY:YOGA with Melissa Sundays 1-2 PM
DESCRIPTION:In the Ballroom upstairs.
URL:https://forestparkcc.org/event/yoga-with-melissa-sundays-1-2-pm/2031-02-16/
LOCATION:Forest Park Country Club\, 1821 Mulberry Road\, Martinsville\, VA\, 24112\, United States
END:VEVENT
BEGIN:VEVENT
DTSTART;TZID=America/New_York:20310220T190000
DTEND;TZID=America/New_York:20310220T210000
DTSTAMP:20260425T230937
CREATED:20260419T004009Z
LAST-MODIFIED:20260419T004009Z
UID:10000260-1929380400-1929387600@forestparkcc.org
SUMMARY:FPCC Trivia Night 7- 9 PM
DESCRIPTION:
URL:https://forestparkcc.org/event/fpcc-trivia-night-7-9-pm/2031-02-20/
LOCATION:Forest Park Country Club\, 1821 Mulberry Road\, Martinsville\, VA\, 24112\, United States
END:VEVENT
BEGIN:VEVENT
DTSTART;TZID=America/New_York:20310223T130000
DTEND;TZID=America/New_York:20310223T140000
DTSTAMP:20260425T230937
CREATED:20260419T004624Z
LAST-MODIFIED:20260419T004624Z
UID:10000519-1929618000-1929621600@forestparkcc.org
SUMMARY:YOGA with Melissa Sundays 1-2 PM
DESCRIPTION:In the Ballroom upstairs.
URL:https://forestparkcc.org/event/yoga-with-melissa-sundays-1-2-pm/2031-02-23/
LOCATION:Forest Park Country Club\, 1821 Mulberry Road\, Martinsville\, VA\, 24112\, United States
END:VEVENT
BEGIN:VEVENT
DTSTART;TZID=America/New_York:20310302T130000
DTEND;TZID=America/New_York:20310302T140000
DTSTAMP:20260425T230937
CREATED:20260419T004624Z
LAST-MODIFIED:20260419T004624Z
UID:10000520-1930222800-1930226400@forestparkcc.org
SUMMARY:YOGA with Melissa Sundays 1-2 PM
DESCRIPTION:In the Ballroom upstairs.
URL:https://forestparkcc.org/event/yoga-with-melissa-sundays-1-2-pm/2031-03-02/
LOCATION:Forest Park Country Club\, 1821 Mulberry Road\, Martinsville\, VA\, 24112\, United States
END:VEVENT
BEGIN:VEVENT
DTSTART;TZID=America/New_York:20310305T180000
DTEND;TZID=America/New_York:20310305T200000
DTSTAMP:20260425T230937
CREATED:20260419T003637Z
LAST-MODIFIED:20260419T003637Z
UID:10000132-1930500000-1930507200@forestparkcc.org
SUMMARY:FPCC Book Exchange First Wednesday of Month
DESCRIPTION:In the Grill Room.
URL:https://forestparkcc.org/event/fpcc-book-exchange-first-wednesday-of-month/2031-03-05/
LOCATION:Forest Park Country Club\, 1821 Mulberry Road\, Martinsville\, VA\, 24112\, United States
END:VEVENT
BEGIN:VEVENT
DTSTART;TZID=America/New_York:20310306T190000
DTEND;TZID=America/New_York:20310306T210000
DTSTAMP:20260425T230937
CREATED:20260419T004009Z
LAST-MODIFIED:20260419T004009Z
UID:10000261-1930590000-1930597200@forestparkcc.org
SUMMARY:FPCC Trivia Night 7- 9 PM
DESCRIPTION:
URL:https://forestparkcc.org/event/fpcc-trivia-night-7-9-pm/2031-03-06/
LOCATION:Forest Park Country Club\, 1821 Mulberry Road\, Martinsville\, VA\, 24112\, United States
END:VEVENT
BEGIN:VEVENT
DTSTART;TZID=America/New_York:20310309T130000
DTEND;TZID=America/New_York:20310309T140000
DTSTAMP:20260425T230937
CREATED:20260419T004624Z
LAST-MODIFIED:20260419T004624Z
UID:10000521-1930827600-1930831200@forestparkcc.org
SUMMARY:YOGA with Melissa Sundays 1-2 PM
DESCRIPTION:In the Ballroom upstairs.
URL:https://forestparkcc.org/event/yoga-with-melissa-sundays-1-2-pm/2031-03-09/
LOCATION:Forest Park Country Club\, 1821 Mulberry Road\, Martinsville\, VA\, 24112\, United States
END:VEVENT
BEGIN:VEVENT
DTSTART;TZID=America/New_York:20310316T130000
DTEND;TZID=America/New_York:20310316T140000
DTSTAMP:20260425T230937
CREATED:20260419T004624Z
LAST-MODIFIED:20260419T004624Z
UID:10000522-1931432400-1931436000@forestparkcc.org
SUMMARY:YOGA with Melissa Sundays 1-2 PM
DESCRIPTION:In the Ballroom upstairs.
URL:https://forestparkcc.org/event/yoga-with-melissa-sundays-1-2-pm/2031-03-16/
LOCATION:Forest Park Country Club\, 1821 Mulberry Road\, Martinsville\, VA\, 24112\, United States
END:VEVENT
BEGIN:VEVENT
DTSTART;TZID=America/New_York:20310320T190000
DTEND;TZID=America/New_York:20310320T210000
DTSTAMP:20260425T230937
CREATED:20260419T004009Z
LAST-MODIFIED:20260419T004009Z
UID:10000262-1931799600-1931806800@forestparkcc.org
SUMMARY:FPCC Trivia Night 7- 9 PM
DESCRIPTION:
URL:https://forestparkcc.org/event/fpcc-trivia-night-7-9-pm/2031-03-20/
LOCATION:Forest Park Country Club\, 1821 Mulberry Road\, Martinsville\, VA\, 24112\, United States
END:VEVENT
BEGIN:VEVENT
DTSTART;TZID=America/New_York:20310323T130000
DTEND;TZID=America/New_York:20310323T140000
DTSTAMP:20260425T230937
CREATED:20260419T004624Z
LAST-MODIFIED:20260419T004624Z
UID:10000523-1932037200-1932040800@forestparkcc.org
SUMMARY:YOGA with Melissa Sundays 1-2 PM
DESCRIPTION:In the Ballroom upstairs.
URL:https://forestparkcc.org/event/yoga-with-melissa-sundays-1-2-pm/2031-03-23/
LOCATION:Forest Park Country Club\, 1821 Mulberry Road\, Martinsville\, VA\, 24112\, United States
END:VEVENT
BEGIN:VEVENT
DTSTART;TZID=America/New_York:20310330T130000
DTEND;TZID=America/New_York:20310330T140000
DTSTAMP:20260425T230937
CREATED:20260419T004624Z
LAST-MODIFIED:20260419T004624Z
UID:10000524-1932642000-1932645600@forestparkcc.org
SUMMARY:YOGA with Melissa Sundays 1-2 PM
DESCRIPTION:In the Ballroom upstairs.
URL:https://forestparkcc.org/event/yoga-with-melissa-sundays-1-2-pm/2031-03-30/
LOCATION:Forest Park Country Club\, 1821 Mulberry Road\, Martinsville\, VA\, 24112\, United States
END:VEVENT
BEGIN:VEVENT
DTSTART;TZID=America/New_York:20310402T180000
DTEND;TZID=America/New_York:20310402T200000
DTSTAMP:20260425T230937
CREATED:20260419T003637Z
LAST-MODIFIED:20260419T003637Z
UID:10000133-1932919200-1932926400@forestparkcc.org
SUMMARY:FPCC Book Exchange First Wednesday of Month
DESCRIPTION:In the Grill Room.
URL:https://forestparkcc.org/event/fpcc-book-exchange-first-wednesday-of-month/2031-04-02/
LOCATION:Forest Park Country Club\, 1821 Mulberry Road\, Martinsville\, VA\, 24112\, United States
END:VEVENT
BEGIN:VEVENT
DTSTART;TZID=America/New_York:20310403T190000
DTEND;TZID=America/New_York:20310403T210000
DTSTAMP:20260425T230937
CREATED:20260419T004009Z
LAST-MODIFIED:20260419T004009Z
UID:10000263-1933009200-1933016400@forestparkcc.org
SUMMARY:FPCC Trivia Night 7- 9 PM
DESCRIPTION:
URL:https://forestparkcc.org/event/fpcc-trivia-night-7-9-pm/2031-04-03/
LOCATION:Forest Park Country Club\, 1821 Mulberry Road\, Martinsville\, VA\, 24112\, United States
END:VEVENT
BEGIN:VEVENT
DTSTART;TZID=America/New_York:20310406T130000
DTEND;TZID=America/New_York:20310406T140000
DTSTAMP:20260425T230937
CREATED:20260419T004624Z
LAST-MODIFIED:20260419T004624Z
UID:10000525-1933246800-1933250400@forestparkcc.org
SUMMARY:YOGA with Melissa Sundays 1-2 PM
DESCRIPTION:In the Ballroom upstairs.
URL:https://forestparkcc.org/event/yoga-with-melissa-sundays-1-2-pm/2031-04-06/
LOCATION:Forest Park Country Club\, 1821 Mulberry Road\, Martinsville\, VA\, 24112\, United States
END:VEVENT
BEGIN:VEVENT
DTSTART;TZID=America/New_York:20310413T130000
DTEND;TZID=America/New_York:20310413T140000
DTSTAMP:20260425T230937
CREATED:20260419T004624Z
LAST-MODIFIED:20260419T004624Z
UID:10000526-1933851600-1933855200@forestparkcc.org
SUMMARY:YOGA with Melissa Sundays 1-2 PM
DESCRIPTION:In the Ballroom upstairs.
URL:https://forestparkcc.org/event/yoga-with-melissa-sundays-1-2-pm/2031-04-13/
LOCATION:Forest Park Country Club\, 1821 Mulberry Road\, Martinsville\, VA\, 24112\, United States
END:VEVENT
BEGIN:VEVENT
DTSTART;TZID=America/New_York:20310417T190000
DTEND;TZID=America/New_York:20310417T210000
DTSTAMP:20260425T230937
CREATED:20260419T004009Z
LAST-MODIFIED:20260419T004009Z
UID:10000264-1934218800-1934226000@forestparkcc.org
SUMMARY:FPCC Trivia Night 7- 9 PM
DESCRIPTION:
URL:https://forestparkcc.org/event/fpcc-trivia-night-7-9-pm/2031-04-17/
LOCATION:Forest Park Country Club\, 1821 Mulberry Road\, Martinsville\, VA\, 24112\, United States
END:VEVENT
END:VCALENDAR