BEGIN:VCALENDAR
VERSION:2.0
PRODID:-//Forest Park Country Club | &quot;The Park&quot; - ECPv6.15.20//NONSGML v1.0//EN
CALSCALE:GREGORIAN
METHOD:PUBLISH
X-WR-CALNAME:Forest Park Country Club | &quot;The Park&quot;
X-ORIGINAL-URL:https://forestparkcc.org
X-WR-CALDESC:Events for Forest Park Country Club | &quot;The Park&quot;
REFRESH-INTERVAL;VALUE=DURATION:PT1H
X-Robots-Tag:noindex
X-PUBLISHED-TTL:PT1H
BEGIN:VTIMEZONE
TZID:America/New_York
BEGIN:DAYLIGHT
TZOFFSETFROM:-0500
TZOFFSETTO:-0400
TZNAME:EDT
DTSTART:20250309T070000
END:DAYLIGHT
BEGIN:STANDARD
TZOFFSETFROM:-0400
TZOFFSETTO:-0500
TZNAME:EST
DTSTART:20251102T060000
END:STANDARD
BEGIN:DAYLIGHT
TZOFFSETFROM:-0500
TZOFFSETTO:-0400
TZNAME:EDT
DTSTART:20260308T070000
END:DAYLIGHT
BEGIN:STANDARD
TZOFFSETFROM:-0400
TZOFFSETTO:-0500
TZNAME:EST
DTSTART:20261101T060000
END:STANDARD
BEGIN:DAYLIGHT
TZOFFSETFROM:-0500
TZOFFSETTO:-0400
TZNAME:EDT
DTSTART:20270314T070000
END:DAYLIGHT
BEGIN:STANDARD
TZOFFSETFROM:-0400
TZOFFSETTO:-0500
TZNAME:EST
DTSTART:20271107T060000
END:STANDARD
END:VTIMEZONE
BEGIN:VEVENT
DTSTART;TZID=America/New_York:20260426T130000
DTEND;TZID=America/New_York:20260426T140000
DTSTAMP:20260421T114931
CREATED:20260419T004624Z
LAST-MODIFIED:20260419T004624Z
UID:10000267-1777208400-1777212000@forestparkcc.org
SUMMARY:YOGA with Melissa Sundays 1-2 PM
DESCRIPTION:In the Ballroom upstairs.
URL:https://forestparkcc.org/event/yoga-with-melissa-sundays-1-2-pm/2026-04-26/
LOCATION:Forest Park Country Club\, 1821 Mulberry Road\, Martinsville\, VA\, 24112\, United States
END:VEVENT
BEGIN:VEVENT
DTSTART;TZID=America/New_York:20260503T130000
DTEND;TZID=America/New_York:20260503T140000
DTSTAMP:20260421T114931
CREATED:20260419T004624Z
LAST-MODIFIED:20260419T004624Z
UID:10000268-1777813200-1777816800@forestparkcc.org
SUMMARY:YOGA with Melissa Sundays 1-2 PM
DESCRIPTION:In the Ballroom upstairs.
URL:https://forestparkcc.org/event/yoga-with-melissa-sundays-1-2-pm/2026-05-03/
LOCATION:Forest Park Country Club\, 1821 Mulberry Road\, Martinsville\, VA\, 24112\, United States
END:VEVENT
BEGIN:VEVENT
DTSTART;TZID=America/New_York:20260510T130000
DTEND;TZID=America/New_York:20260510T140000
DTSTAMP:20260421T114931
CREATED:20260419T004624Z
LAST-MODIFIED:20260419T004624Z
UID:10000269-1778418000-1778421600@forestparkcc.org
SUMMARY:YOGA with Melissa Sundays 1-2 PM
DESCRIPTION:In the Ballroom upstairs.
URL:https://forestparkcc.org/event/yoga-with-melissa-sundays-1-2-pm/2026-05-10/
LOCATION:Forest Park Country Club\, 1821 Mulberry Road\, Martinsville\, VA\, 24112\, United States
END:VEVENT
BEGIN:VEVENT
DTSTART;TZID=America/New_York:20260517T130000
DTEND;TZID=America/New_York:20260517T140000
DTSTAMP:20260421T114931
CREATED:20260419T004624Z
LAST-MODIFIED:20260419T004624Z
UID:10000270-1779022800-1779026400@forestparkcc.org
SUMMARY:YOGA with Melissa Sundays 1-2 PM
DESCRIPTION:In the Ballroom upstairs.
URL:https://forestparkcc.org/event/yoga-with-melissa-sundays-1-2-pm/2026-05-17/
LOCATION:Forest Park Country Club\, 1821 Mulberry Road\, Martinsville\, VA\, 24112\, United States
END:VEVENT
BEGIN:VEVENT
DTSTART;TZID=America/New_York:20260524T130000
DTEND;TZID=America/New_York:20260524T140000
DTSTAMP:20260421T114931
CREATED:20260419T004624Z
LAST-MODIFIED:20260419T004624Z
UID:10000271-1779627600-1779631200@forestparkcc.org
SUMMARY:YOGA with Melissa Sundays 1-2 PM
DESCRIPTION:In the Ballroom upstairs.
URL:https://forestparkcc.org/event/yoga-with-melissa-sundays-1-2-pm/2026-05-24/
LOCATION:Forest Park Country Club\, 1821 Mulberry Road\, Martinsville\, VA\, 24112\, United States
END:VEVENT
BEGIN:VEVENT
DTSTART;TZID=America/New_York:20260531T130000
DTEND;TZID=America/New_York:20260531T140000
DTSTAMP:20260421T114931
CREATED:20260419T004624Z
LAST-MODIFIED:20260419T004624Z
UID:10000272-1780232400-1780236000@forestparkcc.org
SUMMARY:YOGA with Melissa Sundays 1-2 PM
DESCRIPTION:In the Ballroom upstairs.
URL:https://forestparkcc.org/event/yoga-with-melissa-sundays-1-2-pm/2026-05-31/
LOCATION:Forest Park Country Club\, 1821 Mulberry Road\, Martinsville\, VA\, 24112\, United States
END:VEVENT
BEGIN:VEVENT
DTSTART;TZID=America/New_York:20260607T130000
DTEND;TZID=America/New_York:20260607T140000
DTSTAMP:20260421T114931
CREATED:20260419T004624Z
LAST-MODIFIED:20260419T004624Z
UID:10000273-1780837200-1780840800@forestparkcc.org
SUMMARY:YOGA with Melissa Sundays 1-2 PM
DESCRIPTION:In the Ballroom upstairs.
URL:https://forestparkcc.org/event/yoga-with-melissa-sundays-1-2-pm/2026-06-07/
LOCATION:Forest Park Country Club\, 1821 Mulberry Road\, Martinsville\, VA\, 24112\, United States
END:VEVENT
BEGIN:VEVENT
DTSTART;TZID=America/New_York:20260614T130000
DTEND;TZID=America/New_York:20260614T140000
DTSTAMP:20260421T114931
CREATED:20260419T004624Z
LAST-MODIFIED:20260419T004624Z
UID:10000274-1781442000-1781445600@forestparkcc.org
SUMMARY:YOGA with Melissa Sundays 1-2 PM
DESCRIPTION:In the Ballroom upstairs.
URL:https://forestparkcc.org/event/yoga-with-melissa-sundays-1-2-pm/2026-06-14/
LOCATION:Forest Park Country Club\, 1821 Mulberry Road\, Martinsville\, VA\, 24112\, United States
END:VEVENT
BEGIN:VEVENT
DTSTART;TZID=America/New_York:20260621T130000
DTEND;TZID=America/New_York:20260621T140000
DTSTAMP:20260421T114931
CREATED:20260419T004624Z
LAST-MODIFIED:20260419T004624Z
UID:10000275-1782046800-1782050400@forestparkcc.org
SUMMARY:YOGA with Melissa Sundays 1-2 PM
DESCRIPTION:In the Ballroom upstairs.
URL:https://forestparkcc.org/event/yoga-with-melissa-sundays-1-2-pm/2026-06-21/
LOCATION:Forest Park Country Club\, 1821 Mulberry Road\, Martinsville\, VA\, 24112\, United States
END:VEVENT
BEGIN:VEVENT
DTSTART;TZID=America/New_York:20260628T130000
DTEND;TZID=America/New_York:20260628T140000
DTSTAMP:20260421T114931
CREATED:20260419T004624Z
LAST-MODIFIED:20260419T004624Z
UID:10000276-1782651600-1782655200@forestparkcc.org
SUMMARY:YOGA with Melissa Sundays 1-2 PM
DESCRIPTION:In the Ballroom upstairs.
URL:https://forestparkcc.org/event/yoga-with-melissa-sundays-1-2-pm/2026-06-28/
LOCATION:Forest Park Country Club\, 1821 Mulberry Road\, Martinsville\, VA\, 24112\, United States
END:VEVENT
BEGIN:VEVENT
DTSTART;TZID=America/New_York:20260705T130000
DTEND;TZID=America/New_York:20260705T140000
DTSTAMP:20260421T114931
CREATED:20260419T004624Z
LAST-MODIFIED:20260419T004624Z
UID:10000277-1783256400-1783260000@forestparkcc.org
SUMMARY:YOGA with Melissa Sundays 1-2 PM
DESCRIPTION:In the Ballroom upstairs.
URL:https://forestparkcc.org/event/yoga-with-melissa-sundays-1-2-pm/2026-07-05/
LOCATION:Forest Park Country Club\, 1821 Mulberry Road\, Martinsville\, VA\, 24112\, United States
END:VEVENT
BEGIN:VEVENT
DTSTART;TZID=America/New_York:20260712T130000
DTEND;TZID=America/New_York:20260712T140000
DTSTAMP:20260421T114931
CREATED:20260419T004624Z
LAST-MODIFIED:20260419T004624Z
UID:10000278-1783861200-1783864800@forestparkcc.org
SUMMARY:YOGA with Melissa Sundays 1-2 PM
DESCRIPTION:In the Ballroom upstairs.
URL:https://forestparkcc.org/event/yoga-with-melissa-sundays-1-2-pm/2026-07-12/
LOCATION:Forest Park Country Club\, 1821 Mulberry Road\, Martinsville\, VA\, 24112\, United States
END:VEVENT
BEGIN:VEVENT
DTSTART;TZID=America/New_York:20260719T130000
DTEND;TZID=America/New_York:20260719T140000
DTSTAMP:20260421T114931
CREATED:20260419T004624Z
LAST-MODIFIED:20260419T004624Z
UID:10000279-1784466000-1784469600@forestparkcc.org
SUMMARY:YOGA with Melissa Sundays 1-2 PM
DESCRIPTION:In the Ballroom upstairs.
URL:https://forestparkcc.org/event/yoga-with-melissa-sundays-1-2-pm/2026-07-19/
LOCATION:Forest Park Country Club\, 1821 Mulberry Road\, Martinsville\, VA\, 24112\, United States
END:VEVENT
BEGIN:VEVENT
DTSTART;TZID=America/New_York:20260726T130000
DTEND;TZID=America/New_York:20260726T140000
DTSTAMP:20260421T114931
CREATED:20260419T004624Z
LAST-MODIFIED:20260419T004624Z
UID:10000280-1785070800-1785074400@forestparkcc.org
SUMMARY:YOGA with Melissa Sundays 1-2 PM
DESCRIPTION:In the Ballroom upstairs.
URL:https://forestparkcc.org/event/yoga-with-melissa-sundays-1-2-pm/2026-07-26/
LOCATION:Forest Park Country Club\, 1821 Mulberry Road\, Martinsville\, VA\, 24112\, United States
END:VEVENT
BEGIN:VEVENT
DTSTART;TZID=America/New_York:20260802T130000
DTEND;TZID=America/New_York:20260802T140000
DTSTAMP:20260421T114931
CREATED:20260419T004624Z
LAST-MODIFIED:20260419T004624Z
UID:10000281-1785675600-1785679200@forestparkcc.org
SUMMARY:YOGA with Melissa Sundays 1-2 PM
DESCRIPTION:In the Ballroom upstairs.
URL:https://forestparkcc.org/event/yoga-with-melissa-sundays-1-2-pm/2026-08-02/
LOCATION:Forest Park Country Club\, 1821 Mulberry Road\, Martinsville\, VA\, 24112\, United States
END:VEVENT
BEGIN:VEVENT
DTSTART;TZID=America/New_York:20260809T130000
DTEND;TZID=America/New_York:20260809T140000
DTSTAMP:20260421T114931
CREATED:20260419T004624Z
LAST-MODIFIED:20260419T004624Z
UID:10000282-1786280400-1786284000@forestparkcc.org
SUMMARY:YOGA with Melissa Sundays 1-2 PM
DESCRIPTION:In the Ballroom upstairs.
URL:https://forestparkcc.org/event/yoga-with-melissa-sundays-1-2-pm/2026-08-09/
LOCATION:Forest Park Country Club\, 1821 Mulberry Road\, Martinsville\, VA\, 24112\, United States
END:VEVENT
BEGIN:VEVENT
DTSTART;TZID=America/New_York:20260816T130000
DTEND;TZID=America/New_York:20260816T140000
DTSTAMP:20260421T114931
CREATED:20260419T004624Z
LAST-MODIFIED:20260419T004624Z
UID:10000283-1786885200-1786888800@forestparkcc.org
SUMMARY:YOGA with Melissa Sundays 1-2 PM
DESCRIPTION:In the Ballroom upstairs.
URL:https://forestparkcc.org/event/yoga-with-melissa-sundays-1-2-pm/2026-08-16/
LOCATION:Forest Park Country Club\, 1821 Mulberry Road\, Martinsville\, VA\, 24112\, United States
END:VEVENT
BEGIN:VEVENT
DTSTART;TZID=America/New_York:20260823T130000
DTEND;TZID=America/New_York:20260823T140000
DTSTAMP:20260421T114931
CREATED:20260419T004624Z
LAST-MODIFIED:20260419T004624Z
UID:10000284-1787490000-1787493600@forestparkcc.org
SUMMARY:YOGA with Melissa Sundays 1-2 PM
DESCRIPTION:In the Ballroom upstairs.
URL:https://forestparkcc.org/event/yoga-with-melissa-sundays-1-2-pm/2026-08-23/
LOCATION:Forest Park Country Club\, 1821 Mulberry Road\, Martinsville\, VA\, 24112\, United States
END:VEVENT
BEGIN:VEVENT
DTSTART;TZID=America/New_York:20260830T130000
DTEND;TZID=America/New_York:20260830T140000
DTSTAMP:20260421T114931
CREATED:20260419T004624Z
LAST-MODIFIED:20260419T004624Z
UID:10000285-1788094800-1788098400@forestparkcc.org
SUMMARY:YOGA with Melissa Sundays 1-2 PM
DESCRIPTION:In the Ballroom upstairs.
URL:https://forestparkcc.org/event/yoga-with-melissa-sundays-1-2-pm/2026-08-30/
LOCATION:Forest Park Country Club\, 1821 Mulberry Road\, Martinsville\, VA\, 24112\, United States
END:VEVENT
BEGIN:VEVENT
DTSTART;TZID=America/New_York:20260906T130000
DTEND;TZID=America/New_York:20260906T140000
DTSTAMP:20260421T114931
CREATED:20260419T004624Z
LAST-MODIFIED:20260419T004624Z
UID:10000286-1788699600-1788703200@forestparkcc.org
SUMMARY:YOGA with Melissa Sundays 1-2 PM
DESCRIPTION:In the Ballroom upstairs.
URL:https://forestparkcc.org/event/yoga-with-melissa-sundays-1-2-pm/2026-09-06/
LOCATION:Forest Park Country Club\, 1821 Mulberry Road\, Martinsville\, VA\, 24112\, United States
END:VEVENT
BEGIN:VEVENT
DTSTART;TZID=America/New_York:20260913T130000
DTEND;TZID=America/New_York:20260913T140000
DTSTAMP:20260421T114931
CREATED:20260419T004624Z
LAST-MODIFIED:20260419T004624Z
UID:10000287-1789304400-1789308000@forestparkcc.org
SUMMARY:YOGA with Melissa Sundays 1-2 PM
DESCRIPTION:In the Ballroom upstairs.
URL:https://forestparkcc.org/event/yoga-with-melissa-sundays-1-2-pm/2026-09-13/
LOCATION:Forest Park Country Club\, 1821 Mulberry Road\, Martinsville\, VA\, 24112\, United States
END:VEVENT
BEGIN:VEVENT
DTSTART;TZID=America/New_York:20260920T130000
DTEND;TZID=America/New_York:20260920T140000
DTSTAMP:20260421T114931
CREATED:20260419T004624Z
LAST-MODIFIED:20260419T004624Z
UID:10000288-1789909200-1789912800@forestparkcc.org
SUMMARY:YOGA with Melissa Sundays 1-2 PM
DESCRIPTION:In the Ballroom upstairs.
URL:https://forestparkcc.org/event/yoga-with-melissa-sundays-1-2-pm/2026-09-20/
LOCATION:Forest Park Country Club\, 1821 Mulberry Road\, Martinsville\, VA\, 24112\, United States
END:VEVENT
BEGIN:VEVENT
DTSTART;TZID=America/New_York:20260927T130000
DTEND;TZID=America/New_York:20260927T140000
DTSTAMP:20260421T114931
CREATED:20260419T004624Z
LAST-MODIFIED:20260419T004624Z
UID:10000289-1790514000-1790517600@forestparkcc.org
SUMMARY:YOGA with Melissa Sundays 1-2 PM
DESCRIPTION:In the Ballroom upstairs.
URL:https://forestparkcc.org/event/yoga-with-melissa-sundays-1-2-pm/2026-09-27/
LOCATION:Forest Park Country Club\, 1821 Mulberry Road\, Martinsville\, VA\, 24112\, United States
END:VEVENT
BEGIN:VEVENT
DTSTART;TZID=America/New_York:20261004T130000
DTEND;TZID=America/New_York:20261004T140000
DTSTAMP:20260421T114931
CREATED:20260419T004624Z
LAST-MODIFIED:20260419T004624Z
UID:10000290-1791118800-1791122400@forestparkcc.org
SUMMARY:YOGA with Melissa Sundays 1-2 PM
DESCRIPTION:In the Ballroom upstairs.
URL:https://forestparkcc.org/event/yoga-with-melissa-sundays-1-2-pm/2026-10-04/
LOCATION:Forest Park Country Club\, 1821 Mulberry Road\, Martinsville\, VA\, 24112\, United States
END:VEVENT
BEGIN:VEVENT
DTSTART;TZID=America/New_York:20261011T130000
DTEND;TZID=America/New_York:20261011T140000
DTSTAMP:20260421T114931
CREATED:20260419T004624Z
LAST-MODIFIED:20260419T004624Z
UID:10000291-1791723600-1791727200@forestparkcc.org
SUMMARY:YOGA with Melissa Sundays 1-2 PM
DESCRIPTION:In the Ballroom upstairs.
URL:https://forestparkcc.org/event/yoga-with-melissa-sundays-1-2-pm/2026-10-11/
LOCATION:Forest Park Country Club\, 1821 Mulberry Road\, Martinsville\, VA\, 24112\, United States
END:VEVENT
BEGIN:VEVENT
DTSTART;TZID=America/New_York:20261018T130000
DTEND;TZID=America/New_York:20261018T140000
DTSTAMP:20260421T114931
CREATED:20260419T004624Z
LAST-MODIFIED:20260419T004624Z
UID:10000292-1792328400-1792332000@forestparkcc.org
SUMMARY:YOGA with Melissa Sundays 1-2 PM
DESCRIPTION:In the Ballroom upstairs.
URL:https://forestparkcc.org/event/yoga-with-melissa-sundays-1-2-pm/2026-10-18/
LOCATION:Forest Park Country Club\, 1821 Mulberry Road\, Martinsville\, VA\, 24112\, United States
END:VEVENT
BEGIN:VEVENT
DTSTART;TZID=America/New_York:20261025T130000
DTEND;TZID=America/New_York:20261025T140000
DTSTAMP:20260421T114931
CREATED:20260419T004624Z
LAST-MODIFIED:20260419T004624Z
UID:10000293-1792933200-1792936800@forestparkcc.org
SUMMARY:YOGA with Melissa Sundays 1-2 PM
DESCRIPTION:In the Ballroom upstairs.
URL:https://forestparkcc.org/event/yoga-with-melissa-sundays-1-2-pm/2026-10-25/
LOCATION:Forest Park Country Club\, 1821 Mulberry Road\, Martinsville\, VA\, 24112\, United States
END:VEVENT
BEGIN:VEVENT
DTSTART;TZID=America/New_York:20261101T130000
DTEND;TZID=America/New_York:20261101T140000
DTSTAMP:20260421T114931
CREATED:20260419T004624Z
LAST-MODIFIED:20260419T004624Z
UID:10000294-1793538000-1793541600@forestparkcc.org
SUMMARY:YOGA with Melissa Sundays 1-2 PM
DESCRIPTION:In the Ballroom upstairs.
URL:https://forestparkcc.org/event/yoga-with-melissa-sundays-1-2-pm/2026-11-01/
LOCATION:Forest Park Country Club\, 1821 Mulberry Road\, Martinsville\, VA\, 24112\, United States
END:VEVENT
BEGIN:VEVENT
DTSTART;TZID=America/New_York:20261108T130000
DTEND;TZID=America/New_York:20261108T140000
DTSTAMP:20260421T114931
CREATED:20260419T004624Z
LAST-MODIFIED:20260419T004624Z
UID:10000295-1794142800-1794146400@forestparkcc.org
SUMMARY:YOGA with Melissa Sundays 1-2 PM
DESCRIPTION:In the Ballroom upstairs.
URL:https://forestparkcc.org/event/yoga-with-melissa-sundays-1-2-pm/2026-11-08/
LOCATION:Forest Park Country Club\, 1821 Mulberry Road\, Martinsville\, VA\, 24112\, United States
END:VEVENT
BEGIN:VEVENT
DTSTART;TZID=America/New_York:20261115T130000
DTEND;TZID=America/New_York:20261115T140000
DTSTAMP:20260421T114931
CREATED:20260419T004624Z
LAST-MODIFIED:20260419T004624Z
UID:10000296-1794747600-1794751200@forestparkcc.org
SUMMARY:YOGA with Melissa Sundays 1-2 PM
DESCRIPTION:In the Ballroom upstairs.
URL:https://forestparkcc.org/event/yoga-with-melissa-sundays-1-2-pm/2026-11-15/
LOCATION:Forest Park Country Club\, 1821 Mulberry Road\, Martinsville\, VA\, 24112\, United States
END:VEVENT
END:VCALENDAR